BEGIN:VCALENDAR
VERSION:2.0
PRODID:-//Kulturbunker Köln-Mülheim - ECPv6.15.20//NONSGML v1.0//EN
CALSCALE:GREGORIAN
METHOD:PUBLISH
X-ORIGINAL-URL:https://kulturbunker-muelheim.de
X-WR-CALDESC:Veranstaltungen für Kulturbunker Köln-Mülheim
REFRESH-INTERVAL;VALUE=DURATION:PT1H
X-Robots-Tag:noindex
X-PUBLISHED-TTL:PT1H
BEGIN:VTIMEZONE
TZID:Europe/Berlin
BEGIN:DAYLIGHT
TZOFFSETFROM:+0100
TZOFFSETTO:+0200
TZNAME:CEST
DTSTART:20210328T010000
END:DAYLIGHT
BEGIN:STANDARD
TZOFFSETFROM:+0200
TZOFFSETTO:+0100
TZNAME:CET
DTSTART:20211031T010000
END:STANDARD
BEGIN:DAYLIGHT
TZOFFSETFROM:+0100
TZOFFSETTO:+0200
TZNAME:CEST
DTSTART:20220327T010000
END:DAYLIGHT
BEGIN:STANDARD
TZOFFSETFROM:+0200
TZOFFSETTO:+0100
TZNAME:CET
DTSTART:20221030T010000
END:STANDARD
BEGIN:DAYLIGHT
TZOFFSETFROM:+0100
TZOFFSETTO:+0200
TZNAME:CEST
DTSTART:20230326T010000
END:DAYLIGHT
BEGIN:STANDARD
TZOFFSETFROM:+0200
TZOFFSETTO:+0100
TZNAME:CET
DTSTART:20231029T010000
END:STANDARD
END:VTIMEZONE
BEGIN:VEVENT
DTSTART;TZID=Europe/Berlin:20221001T200000
DTEND;TZID=Europe/Berlin:20221002T070000
DTSTAMP:20260421T130330
CREATED:20220926T113154Z
LAST-MODIFIED:20220928T082953Z
UID:10000333-1664654400-1664694000@kulturbunker-muelheim.de
SUMMARY:»LeyLey« Timcheh e.V. x krakelee
DESCRIPTION:Wir haben uns sehr darauf gefreut\, unsere nächste Veranstaltung mit euch zu teilen. Aber die aktuellen Geschehnisse und Nachrichten aus dem Iran haben uns mit Gefühlen der Traurigkeit\, Angst und Wut zurückgelassen – und gleichzeitig mit Hoffnung. Wir alle sollten uns weiterhin über die aktuellen Ereignisse informieren und diese unter unseren Freund:innen\, Familien und Gemeinschaften verbreiten. Wir widmen unsere Veranstaltung all den Frauen*\, die für ihr Leben und ihre Freiheit kämpfen. \nژین – ژیان – آزادی\nزن – زندگی – آزادی\nFrauen – Leben – Freiheit \n#mahsaamini #zhinaamini \n  \n»LeyLey« (intern. Kinderspiel / dt. »Himmel und Hölle«): Wir tanzen im und außerhalb des Vierecks. \nTimcheh e. V. hat vier aufstrebende Künstlerinnen aus Teheran\, Köln und Berlin eingeladen\, die sich der elektronischen Musik unterschiedlichster Spielarten verschrieben haben. An den Decks\, im Studio oder im Radio reißen sie Genregrenzen zwischen Leftfield House\, Broken Beats\, Techno und Bassmusik ein\, stets auf der Suche nach dem Verbindenden\, der Queerness und neuen musikalischen Welten. \nUnterstützt werden sie dabei von krakelee\, einem Kollektiv\, das seit zwei Jahren daran arbeitet\, einen linken\, kollektiv verwalteten und genossenschaftlich finanzierten Technoclub in Köln zu etablieren. Wir freuen uns auf einen spannenden musikalischen Abend\, bei dem Sexismus\, Rassismus\, Homophobie und andere diskriminierende Verhaltensweisen nichts zu suchen haben. \n»LeyLey« – meaning the ›hopscotch‹ children’s game: We’re dancing in- and outside of squares. Timcheh e. V. has invited four aspiring female artists from Tehran\, Berlin and Cologne\, all dedicated to a wide array of different electronic dance music styles. On the decks\, in the studio or in their radio shows\, they like to tear down borders between genres like Leftfield House\, Broken Beats\, Techno and Bass Music; always looking for connections\, queerness and new sonic worlds. \nThe night is supported by »krakelee« collective\, which is working on establishing a left-wing/progressive\, collectively run & financed techno club in Cologne.\nWe’re looking forward to an exciting night\, free of sexism\, racism\, homophobia and other discriminating behaviours. \nLine Up \nMONIBI (she/they) \nMonibi is a club DJ\, radio host\, and music producer based in Berlin. Born in France\, former Scottish resident\, adopted German. Bass music and leftfield house music often shine in Monibi’s DJ sets. She takes inspiration from the old-school NY open-format school of DJing: she joins the dots of the dance music spectrum favouring vibe over genre dogmatism. The vibe is retrofuturistic\, embracing queerness\, and inviting colourful mystic journeys. \nhttps://www.instagram.com/monibi_music/\nhttps://www.facebook.com/djmonibi\nhttps://soundcloud.com/mawnyb\nhttps://ra.co/dj/monibi\nhttps://monibi.bandcamp.com/ \nNESA AZADIKHAH (she/her) \nMusic Producer / Dj / Founder & Manager Of DeepHouse Tehran\nNesa Azadikhah (1984) is a Tehran based Dj\, music producer\, composer\, soundartist\, and musician. From playing Tonbak and Daf at the age of sixteen in underground dance circles\, she has established herself as one of Tehran’s most in demand electronic music and sound artists and composers around. She is the Founder/Owner and Managing director of DeepHouse Tehran and promotes Iranian electronic Musicians. \nhttps://www.instagram.com/nesaazadikhah\nhttps://www.facebook.com/nesaazadikhah\nhttps://www.soundcloud.com/nesaazadikhah\nhttps://www.beatport.com/artist/nesa-azadikhah/717985 \nSAVSANNAH (she/her) \nCali-born\, Cologne-based Savsannah aspires to bring people together through music\, community building\, and writing. Over the past six years\, she’s grown as an artist and has found herself in different pockets of the city\, such as hosting her bi-monthly dublab DE radio show »This Must Be The Place«\, co-founding the contemporary pop-focused label Safe Space Records\, and also co-founding the queer-feminist collective\, cumming. In the past two years\, she started DJing at various venues and parties in Cologne\, focusing her sets on creating a welcoming space where listeners can escape to another world and feel an array of emotions. She conveys this through the different genres that weave in and out of her sets in hopes that everyone feels loved\, included\, and connected. \nhttps://www.instagram.com/savsannah/\nhttps://www.facebook.com/savsannah\nhttps://soundcloud.com/savsannah\nhttps://www.mixcloud.com/savsannah/\nhttps://ra.co/dj/savsannah
URL:https://kulturbunker-muelheim.de/event/leyley-party/
CATEGORIES:Kultur
ATTACH;FMTTYPE=image/png:https://kulturbunker-muelheim.de/wp-content/uploads/2022/09/POSTER-FINAL.png
END:VEVENT
BEGIN:VEVENT
DTSTART;TZID=Europe/Berlin:20221002T180000
DTEND;TZID=Europe/Berlin:20221002T220000
DTSTAMP:20260421T130330
CREATED:20220704T094355Z
LAST-MODIFIED:20220923T120531Z
UID:10000299-1664733600-1664748000@kulturbunker-muelheim.de
SUMMARY:Jamsession im Kulturbunker
DESCRIPTION:Die offene Jamsession des Kulturbunker lädt zum gemeinsamen Musizieren und Jamen ein.\n \nMusiker*innen und Zuhörer*innen sind herzlich willkommen. Wir haben einen kleinen Grundstock an Kabeln und Technik. Instrumente bitte selbst mitbringen.\n \nKommende Termine im 2. Halbjahr: 29.10.2022\, 27.11.2022\n \nEintritt frei\n \n  \n  \n 
URL:https://kulturbunker-muelheim.de/event/jamsession-im-kulturbunker-12/
CATEGORIES:Kultur
ATTACH;FMTTYPE=image/jpeg:https://kulturbunker-muelheim.de/wp-content/uploads/2022/07/jam_termine22_2-1.jpg
END:VEVENT
END:VCALENDAR