BEGIN:VCALENDAR
VERSION:2.0
PRODID:-//Kulturbunker Köln-Mülheim - ECPv6.15.20//NONSGML v1.0//EN
CALSCALE:GREGORIAN
METHOD:PUBLISH
X-ORIGINAL-URL:https://kulturbunker-muelheim.de
X-WR-CALDESC:Veranstaltungen für Kulturbunker Köln-Mülheim
REFRESH-INTERVAL;VALUE=DURATION:PT1H
X-Robots-Tag:noindex
X-PUBLISHED-TTL:PT1H
BEGIN:VTIMEZONE
TZID:Europe/Berlin
BEGIN:DAYLIGHT
TZOFFSETFROM:+0100
TZOFFSETTO:+0200
TZNAME:CEST
DTSTART:20210328T010000
END:DAYLIGHT
BEGIN:STANDARD
TZOFFSETFROM:+0200
TZOFFSETTO:+0100
TZNAME:CET
DTSTART:20211031T010000
END:STANDARD
BEGIN:DAYLIGHT
TZOFFSETFROM:+0100
TZOFFSETTO:+0200
TZNAME:CEST
DTSTART:20220327T010000
END:DAYLIGHT
BEGIN:STANDARD
TZOFFSETFROM:+0200
TZOFFSETTO:+0100
TZNAME:CET
DTSTART:20221030T010000
END:STANDARD
BEGIN:DAYLIGHT
TZOFFSETFROM:+0100
TZOFFSETTO:+0200
TZNAME:CEST
DTSTART:20230326T010000
END:DAYLIGHT
BEGIN:STANDARD
TZOFFSETFROM:+0200
TZOFFSETTO:+0100
TZNAME:CET
DTSTART:20231029T010000
END:STANDARD
END:VTIMEZONE
BEGIN:VEVENT
DTSTART;TZID=Europe/Berlin:20221015T160000
DTEND;TZID=Europe/Berlin:20221023T180000
DTSTAMP:20260421T130328
CREATED:20220913T080412Z
LAST-MODIFIED:20221004T121008Z
UID:10000323-1665849600-1666548000@kulturbunker-muelheim.de
SUMMARY:Heribert Schoroth // Retrospektive
DESCRIPTION:Heribert Schoroth\, geboren 1950 in Siegburg\, ist ein Künstler\, der sich seit der Kindheit zeichnend und malend durchs Leben bewegt hat\, um seine Umgebung\, die Menschen um sich herum und ihn bewegende Ereignisse wiederzugeben und zu reflektieren. Das Einzigartige im Alltäglichen sichtbar zu machen\, ist das zentrale Anliegen des Künstlers. \nAus sechs Jahrzehnten künstlerischen Schaffens zeigt die Ausstellung einen Querschnitt inhaltlich wichtiger Themen\, die sich wie ein roter Faden durch die Jahre künstlerischer Arbeit ziehen: Menschenbilder\, Tanz\, Natur\, Heimat\, um nur einige zu nennen. Mit der Zeit fließt die Tusche als großer formaler Einschnitt in die expressiv gestalteten Bilder ein und radikalisiert und schärft den Ausdruck. Andere Elemente\, wie fotografische Papierfetzen oder alte Malgründe\, fordern den Künstler heraus: Das Ergebnis sind eigenwillige\, kraftvolle und ausdrucksstarke Bilder – ein Spiegel unserer Zeit. \n15.-23.10.2022 \n15.10. um 16 Uhr // Vernissage mit musikalischem Rahmenprogramm \nÖffnungszeiten:\nDI\, MI & Fr: 15-18 Uhr\nDO: 15-20 Uhr\nSA: 16-20 Uhr\nSO: 12-18 Uhr \nEintritt frei
URL:https://kulturbunker-muelheim.de/event/heribert-schoroth-retrospektive/
CATEGORIES:Kultur
ATTACH;FMTTYPE=image/jpeg:https://kulturbunker-muelheim.de/wp-content/uploads/2022/09/Schoroth1.jpg
END:VEVENT
BEGIN:VEVENT
DTSTART;TZID=Europe/Berlin:20221021T200000
DTEND;TZID=Europe/Berlin:20221021T213000
DTSTAMP:20260421T130328
CREATED:20220926T111941Z
LAST-MODIFIED:20221004T102004Z
UID:10000332-1666382400-1666387800@kulturbunker-muelheim.de
SUMMARY:Cengiz Yazgi Band
DESCRIPTION:Eine lebenslange Liebe: Cengiz Yazgi begeistert sich seit seiner Kindheit für Musik. \nDie musikalischen Traditionen seiner anatolischen Heimat mischt er als Strassenmusiker in Istanbul mit Pop und Bluesrockelementen. Schnell fasst er Fuss in der Musikszene und wird von etablierten Künstlern gefördert. Seine warme ausdrucksstarke Stimme und seine gefühlvollen Stücke führen ihn im populären Castingformat „KurdIdol“ bis ins Finale und seine Anhängerschaft wächst immer weiter. \nIm Kulturbunker Mülheim ist er das erste Mal live in Deutschland zu erleben. \nEinlass: 19:30 Uhr\nBeginn: 20:00 Uhr \nEintritt: VVK14 € // AK: 18€ zzgl. VVK-Gebühren \nDie Tickets erhalten Sie unter www.koelnticket.de als print@home\, an allen bekannten VVK-Stellen oder unter der Hotline 0221-2801.
URL:https://kulturbunker-muelheim.de/event/cengiz-yazgi-band/
CATEGORIES:Kultur
ATTACH;FMTTYPE=image/jpeg:https://kulturbunker-muelheim.de/wp-content/uploads/2022/09/MHM_4058-04-scaled.jpeg
END:VEVENT
END:VCALENDAR