BEGIN:VCALENDAR
VERSION:2.0
PRODID:-//Kulturbunker Köln-Mülheim - ECPv6.15.20//NONSGML v1.0//EN
CALSCALE:GREGORIAN
METHOD:PUBLISH
X-WR-CALNAME:Kulturbunker Köln-Mülheim
X-ORIGINAL-URL:https://kulturbunker-muelheim.de
X-WR-CALDESC:Veranstaltungen für Kulturbunker Köln-Mülheim
REFRESH-INTERVAL;VALUE=DURATION:PT1H
X-Robots-Tag:noindex
X-PUBLISHED-TTL:PT1H
BEGIN:VTIMEZONE
TZID:Europe/Berlin
BEGIN:DAYLIGHT
TZOFFSETFROM:+0100
TZOFFSETTO:+0200
TZNAME:CEST
DTSTART:20210328T010000
END:DAYLIGHT
BEGIN:STANDARD
TZOFFSETFROM:+0200
TZOFFSETTO:+0100
TZNAME:CET
DTSTART:20211031T010000
END:STANDARD
BEGIN:DAYLIGHT
TZOFFSETFROM:+0100
TZOFFSETTO:+0200
TZNAME:CEST
DTSTART:20220327T010000
END:DAYLIGHT
BEGIN:STANDARD
TZOFFSETFROM:+0200
TZOFFSETTO:+0100
TZNAME:CET
DTSTART:20221030T010000
END:STANDARD
BEGIN:DAYLIGHT
TZOFFSETFROM:+0100
TZOFFSETTO:+0200
TZNAME:CEST
DTSTART:20230326T010000
END:DAYLIGHT
BEGIN:STANDARD
TZOFFSETFROM:+0200
TZOFFSETTO:+0100
TZNAME:CET
DTSTART:20231029T010000
END:STANDARD
END:VTIMEZONE
BEGIN:VEVENT
DTSTART;TZID=Europe/Berlin:20221027T190000
DTEND;TZID=Europe/Berlin:20221030T190000
DTSTAMP:20260421T130037
CREATED:20220913T122058Z
LAST-MODIFIED:20221007T110722Z
UID:10000327-1666897200-1667156400@kulturbunker-muelheim.de
SUMMARY:Thomas Bieling- CARNE VALE et CORONOPOLIS
DESCRIPTION:Vom 27. – 30.10.2022 zeigt der Bergisch Gladbacher Fotograf Thomas Bieling seine zwei Fotokunstprojekte „CARNE VALE“ und „CORONOPOLIS“. „Fleisch lebe wohl!“\, so die ursprüngliche Bedeutung des lateinischen Ausrufs „Carne Vale!“\, bezieht sich auf den abgesagten Karneval der letzen beiden Jahre. Zwischenmenschlicher Kontakt\, Feiern und die damit verbundene Lebensfreude und Ausgelassenheit fanden nicht mehr statt. Die FFP2-Maske ersetzte die Karnevalsmaske. In dem Fotoprojekt erhält der stillgelegte Karneval trotzig eine ganz eigene Bühne. Die Fotos zeigen Karnevalsportraits merkwürdiger\, kurioser und fantastischer Wesen. Als Reaktion auf die Pandemie sollen die Bilder einen wertschätzenden Rück-Blick auf das Brauchtum Karneval darstellen\, dem Augen-Blick mit Humor begegnen und einen hoffnugsvollen Aus-Blick auf die nächste Session werfen. \n„CORONOPOLIS“ entstand während des „Lockdowns mit Sperrstunde“ (ab 22.00 Uhr). Das „Leben“ verschwand hinter Hausfassaden und hinterließ Stille und Verlassenheit. In abendlichen und nächtlichen Streifzügen entstanden Bilder von Stadtlandschaften\, die nun durch eine eigentümliche Atmosphäre geprägt waren: kulissenhaft\, skuril\, mitunter grotesk und unwirklich oder auch magisch.\nDie beiden Projekte wurden gefördert durch ein Künstlerstipendium im Rahmen der NRW-Coronahilfen durch das Ministerium für Kultur und Wissenschaft des Landes Nordrhein-Westfalen. \nThomas Bieling\, geb. 1966 in Bergisch Gladbach\, wohnt in Bergisch Gladbach-Refrath\, Fotostudiobeteiligung in Köln- Ehrenfeld\, Studium an der Bergischen Universität Wuppertal mit Abschluß „Diplom-Kommunikationsdesigner“\, Seit 1995 freiberuflicher Fotograf\, Künstler und Kommunikationsdesigner\, diverse Ausstellungsbeteiligungen (Stadtmuseum Witten\, Goetheinstitut Brüssel\, Kulturbrauerei Berlin) \n27.-30.10.2022 \nÖffnungszeiten:\n27.10. Vernissage ab 19:00h\n28.10. 15:00-20:00h\n29.10. 12:00-20:00h\n30.10. 14:00-19:00h
URL:https://kulturbunker-muelheim.de/event/thomas-bieling-carne-vale-et-coronopolis/
CATEGORIES:Kultur
ATTACH;FMTTYPE=image/jpeg:https://kulturbunker-muelheim.de/wp-content/uploads/2022/09/Bild.jpg
END:VEVENT
BEGIN:VEVENT
DTSTART;TZID=Europe/Berlin:20221030T150000
DTEND;TZID=Europe/Berlin:20221030T160000
DTSTAMP:20260421T130037
CREATED:20221018T110633Z
LAST-MODIFIED:20221018T111732Z
UID:10000107-1667142000-1667145600@kulturbunker-muelheim.de
SUMMARY:Feuer\, Winter und ein Schälchen Milch // Geschichten und Musik für Kinder
DESCRIPTION:Ein junger Bursche steht vor einer schwierigen Aufgabe. Seine beiden Brüder haben schon versagt. Er blickt in das Feuer im Ofen. “Mir fällt keine Lösung ein\,“ sagt er\, “aber dafür eine Geschichte!“ Und alle im Haus machen es sich vor dem Feuer gemütlich und der junge Bursche erzählt:\nCoco\, Nuro und Selma laden euch ein zu Geschichten\, die das Herz erwärmen und Musik zum Träumen und Tanzen. Virtuos verbinden sich Erzählungen und Musik zu einem Gesamtkunstwerk\, das sowohl die Kleinen als auch die Großen begeistert und in andere Welten entführt. \nMit Coco Kausch (Akkordeon\, Geige\, Gesang)\, Nurullah Turgut (Percussion) und Selma Scheele (Erzählkunst). \nFür Menschen ab 5 Jahren.\nDauer:. 45 Minuten\nEintritt frei // \nGefördert durch ein Künstlerstipendium im Rahmen der NRW-Corona-Hilfen
URL:https://kulturbunker-muelheim.de/event/feuer-winter-und-ein-schaelchen-milch-geschichten-und-musik-fuer-kinder/
CATEGORIES:Kultur
ATTACH;FMTTYPE=image/jpeg:https://kulturbunker-muelheim.de/wp-content/uploads/2022/10/FeuerWinter.jpg
END:VEVENT
BEGIN:VEVENT
DTSTART;TZID=Europe/Berlin:20221030T183000
DTEND;TZID=Europe/Berlin:20221030T210000
DTSTAMP:20260421T130037
CREATED:20220916T093039Z
LAST-MODIFIED:20220927T114453Z
UID:10000331-1667154600-1667163600@kulturbunker-muelheim.de
SUMMARY:Türkischer Comedy Abend "Istanbul Meydan Sahnesi- Hayat Kime Güzel?"
DESCRIPTION:Das Istanbuler Theater “Istanbul Meydan Sahnesi” präsentiert “Hayat Kime güzel”(Für wen ist das Leben schön?) .\n\nEs handelt sich bei dem preisgekrönten Stück\, produziert von Faruk Sofuoglu\, um eine gesellschaftskritische Komödie mit 5-köpfiger Besetzung aus Sechs Profitheaterschauspielern\, bekannt aus türkischen Fernsehserien.\n\nDas Stück besteht aus 2 Akten und wird in türkischer Sprache aufgeführt. Das Publikum wird teilweise mit in das Stück einbezogen.\n\nHayat kime güzel? Annemize göre hayat babamıza güzel\, “Yediği önünde yemediği arkasında.” Babamıza göre hayat bize güzel\, “Ver yiyeyim\, ser yatayım.” Bize göre\, hayat dostlara güzel “Ekmek elden su gölden.” Sahi\, hayat kime güzel? Her kameradan kaçana mı yoksa Mobese kamerasına bile konuşanına mı? Her anını yayınlayana mı\, yoksa her yemeğini fotoğraflayana mı? Bilime sorsak\, hayat bilinmeze güzel. Güzele sorsak\, hayat kendine güzel… Memura sorsak amire; Amire sorsak müdüre güzel… Patrona sorsak\, işçiye; işçiye sorsak patrona güzel… İşsize sorsak\, çalışana; çalışana sorsak hayat aylaklara güzel. Aylaklık en eski meslek\, çünkü çalışmak\, adamın karakterini bozar. Sahi\, hayat kime güzel?\nİstanbul Meydan Sahnesi olarak Faruk Sofuoğlu yapımcılığında “Hayat Kime Güzel?” adlı yeni komedi oyunumuzla siz seyircilerimizle buluşmanın heyecanı içindeyiz. Gelin\, hayat kime güzel\, birlikte hem eğlenip hem de öğrenelim?\n\nEinlass: 18:00h\nBeginn: 18:30h\nEintritt: VVK 30€ //AK 35 €\nzzgl. VVK-Gebühren\nDie Tickets erhalten Sie unter www.koelnticket.de als print@home\, an allen bekannten VVK-Stellen oder unter der Hotline 0221-2801.
URL:https://kulturbunker-muelheim.de/event/tuerkischer-comedy-abend-istanbul-meydan-sahnesi-hayat-kime-guezel/
CATEGORIES:Kultur
ATTACH;FMTTYPE=image/jpeg:https://kulturbunker-muelheim.de/wp-content/uploads/2022/09/Hayat-kime-guezel_20220927-scaled.jpg
END:VEVENT
END:VCALENDAR