BEGIN:VCALENDAR
VERSION:2.0
PRODID:-//Kulturbunker Köln-Mülheim - ECPv6.15.20//NONSGML v1.0//EN
CALSCALE:GREGORIAN
METHOD:PUBLISH
X-WR-CALNAME:Kulturbunker Köln-Mülheim
X-ORIGINAL-URL:https://kulturbunker-muelheim.de
X-WR-CALDESC:Veranstaltungen für Kulturbunker Köln-Mülheim
REFRESH-INTERVAL;VALUE=DURATION:PT1H
X-Robots-Tag:noindex
X-PUBLISHED-TTL:PT1H
BEGIN:VTIMEZONE
TZID:Europe/Berlin
BEGIN:DAYLIGHT
TZOFFSETFROM:+0100
TZOFFSETTO:+0200
TZNAME:CEST
DTSTART:20210328T010000
END:DAYLIGHT
BEGIN:STANDARD
TZOFFSETFROM:+0200
TZOFFSETTO:+0100
TZNAME:CET
DTSTART:20211031T010000
END:STANDARD
BEGIN:DAYLIGHT
TZOFFSETFROM:+0100
TZOFFSETTO:+0200
TZNAME:CEST
DTSTART:20220327T010000
END:DAYLIGHT
BEGIN:STANDARD
TZOFFSETFROM:+0200
TZOFFSETTO:+0100
TZNAME:CET
DTSTART:20221030T010000
END:STANDARD
BEGIN:DAYLIGHT
TZOFFSETFROM:+0100
TZOFFSETTO:+0200
TZNAME:CEST
DTSTART:20230326T010000
END:DAYLIGHT
BEGIN:STANDARD
TZOFFSETFROM:+0200
TZOFFSETTO:+0100
TZNAME:CET
DTSTART:20231029T010000
END:STANDARD
END:VTIMEZONE
BEGIN:VEVENT
DTSTART;TZID=Europe/Berlin:20221105T190000
DTEND;TZID=Europe/Berlin:20221106T010000
DTSTAMP:20260421T113455
CREATED:20221018T100042Z
LAST-MODIFIED:20221021T121116Z
UID:10000337-1667674800-1667696400@kulturbunker-muelheim.de
SUMMARY:Museumsnacht Köln 2022
DESCRIPTION:Der Kulturbunker ist das soziokulturelle Zentrum von Kölns einwohnerstärkstem Stadtteil. Ein Grenzen überwindender Ort für künstlerisch-kreative Begegnungen auf Augenhöhe. Neben über 300 Veranstaltungen wie Konzerten\, Theater\, Ausstellungen und vielem mehr\, wird an langfristigen Projekten gearbeitet: kulturelle Bildungsangebote für die Menschen aus dem Stadtteil\, Unterstützung hiesiger Künstler:innen\, Förderung von Partizipation in der Stadtgesellschaft. Diversität und die Überzeugung\, dass Demokratie Kultur braucht\, sind die Grundlagen dieser Arbeit. \nAusstellung // 19 – 1 Uhr »Frau /Kadın / Jîn« \nAli Osman Yanak ist im kurdischen Diyarbakir im Südosten der Türkei aufgewachsen und hat in Istanbul Malerei studiert. In seinen vielfältigen Arbeiten — von großformatigen urbanen Murals über fotorealistische Gemälde bis zur klassischen Malerei — befasst er sich unter anderem mit den Zumutungen\, mit denen Frauen im Laufe ihres Lebens umgehen müssen. Yanak thematisiert die Unterdrückung weiblicher Selbstbestimmung in ländlichen Gegenden Anatoliens genauso wie die nur wenig subtileren Ausbeutungsmechanismen in den großen Städten.\nDie Betrachter:innen können in den Werken immer auch die universellen Konflikte der modernen Frau zwischen Beruf und Mutterschaft sowie Rollenbild und Selbstverwirklichung erkennen und reflektieren. \nDie Vernissage Yanaks Bilder findet im Rahmen der Museumsnacht statt. \nKonzert // 20 Uhr „Fatusch“\n5 Frauen — 5 Stimmen — 10 Instrumente — viele Ideen \nDie charmante Kölner Combo spielt ferne Balkanmelodien\, 17-Hippies-Songs und französische Chansons\, neuerdings auch mit Ausflügen nach Südamerika. Ihr hört eine entspannte Version von schön-schräger Weltmusik mit vielen krummen Takten. (60 Min.) \n  \n46 Museen und Kunstorte öffnen von 19 bis 1 Uhr (manche sogar bis 2 Uhr) ihre Türen für alle neugierige Nachtschwärmer:innen und laden zu einem aufregenden und abwechslungsreichen Programm ein: Ob innovative Tanzperformance zwischen mittelalterlichen Gemälden\, professionelles DJ-Set im alten Gemäuer oder außergewöhnliches Konzert in der Ausstellungshalle – langweilig wird es bestimmt nicht! Lobbys werden zu Lounges\, Workshops laden zum Mitmachen ein\, kulinarische Angebote und spannende Führungen locken Besucher:innen jeden Alters. \nLade Dir das Programmheft runter! \nTickets\nDas reguläre Museumsnacht-Ticket (für alle Personen ab 16 Jahre) kostet online (inkl. VVK-Gebühren) und an der Abendkasse 22\,- EUR inkl. Fahrschein. \nKinder bis einschließlich 15 Jahren benötigen kein Museumsnacht-Ticket\, aber ggf. einen ÖPNV-Fahrschein. \nAn der ersten besuchten Station oder an einer unserer großen Abendkassen wird gegen Vorlage des Online-Tickets ein persönliches Eintrittsbändchen ausgehändigt. Kinder bis einschließlich 15 Jahre und notwendige Begleitpersonen gemäß Schwerbehindertenausweis erhalten dort ein spezielles kostenfreies Eintrittsbändchen. \nAn- und Abreise\nIm regulären Online-Ticket (ab 16 Jahre) ist ein personalisierter ÖPNV-Fahrschein enthalten\, der auch für die An- und Abreise im VRS-Gebiet gilt. Der Fahrschein gilt von 15.00 bis 3.00 Uhr. \nTransfer zwischen den Kunstorten\nIn diesem Jahr gibt es prinzipiell keine Shuttlebusse – der Transfer zwischen den einzelnen Kunstorten erfolgt individuell mit den öffentlichen Verkehrsmitteln\, mit dem eigenen Fahrrad\, zu Fuß o.ä. Auf einzelnen ausgewiesenen Routen werden aber zusätzlich spezielle Museumsnacht-Shuttles eingesetzt (Deutz-Mülheim-Shuttle auf der Schäl Sick\, Bimmelbahn-Rhein-Express im Kölner Süden). \nDer im regulären Online-Ticket (ab 16 Jahre) enthaltene personalisierte ÖPNV-Fahrschein gilt für den Transfer zwischen den Kunstorten während der Museumsnacht. Er ist während aller Fahrten mitzuführen und auf Verlangen vorzuzeigen. \nBeim Ticketkauf an der Abendkasse wird ebenfalls ein personalisierter Fahrschein ausgehändigt. \nKinder bis einschließlich 15 Jahre benötigen ggf. einen Fahrschein für die Nutzung des ÖPNV (Kinder bis einschl. 5 J. und noch nicht eingeschulte Kinder unter 7 J. fahren unentgeltlich\, für Kinder von 6 bis einschl. 14 Jahre gibt es den Kindertarif oder sie nutzen ein Schülerticket. Ein Job-Ticket ermöglicht z.B. auch die Mitnahme eines Kindes. Bitte vor Fahrtantritt prüfen).
URL:https://kulturbunker-muelheim.de/event/museumsnacht-koeln-2022/
CATEGORIES:Kultur
ATTACH;FMTTYPE=image/jpeg:https://kulturbunker-muelheim.de/wp-content/uploads/2022/10/Logo_MN_2022_mit-Datum_mit-web_400px.jpg
END:VEVENT
BEGIN:VEVENT
DTSTART;TZID=Europe/Berlin:20221105T193000
DTEND;TZID=Europe/Berlin:20221120T200000
DTSTAMP:20260421T113455
CREATED:20220817T093821Z
LAST-MODIFIED:20221107T091608Z
UID:10000321-1667676600-1668974400@kulturbunker-muelheim.de
SUMMARY:Frau-Kadın-Jin von Ali O. Yanak
DESCRIPTION:Öffnungszeiten: \nMittwoch – Freitag 16-20 Uhr\nSamstag + Sonntag 14-20 Uhr\n\nFrau / Kadın / Jîn:\n\nAli Osman Yanak ist im kurdischen Diyarbakir im Südosten der Türkei aufgewachsen und hat in Istanbul Malerei studiert.\nIn seinen vielfältigen Arbeiten von grossformatigen urbanen Murals über photorealistische Gemälde bis zur klassischen Malerei befasst er sich unter anderem mit den Zumutungen\, mit denen Frauen im Laufe ihres Lebens umgehen müssen.\nEr thematisiert die Unterdrückung weiblicher Selbstbestimmung in ländlichen Gegenden Anatoliens genauso wie die nur wenig subtileren Ausbeutungsmechanismen in den grossen Städten.\n\nDie porträtierten Frauen sind aber immer Individuen\, deren Freiheitsstreben\, Kampfeswillen und Hoffnung spürbar bleibt.\nYanak kennt die konkreten Lebenssituationen der Frauen in der Türkei – von der frühen Verheiratung über patriarchalen Anpassungsdruck bis zur Selbstverleugnung. Die Betrachter*innen können aber immer auch die universellen Konflikte der modernen Frau zwischen Beruf / Mutterschaft\, Rollenbild / Selbstverwirklichung erkennen und reflektieren.\n\nDer Kulturbunker Mülheim zeigt Yanaks Bilder vom 5.11. (Vernissage im Rahmen der Museumsnacht) bis zum 20.11.22\nEs sind Workshops mit dem Künstler geplant\, die kurzfristig bekannt gegeben werden.\nEintritt frei\n\nTürkisch//\nDiyarbakır’da doğup büyüyen Ali Osman Yanak\, daha sonra Konya ve İstanbul’da güzel sanatlar alanında eğitim alır ve bu eğitimi başarıyla tamamlar. Duvar boyama sanatı\, fotogerçekçi ve klasik resim gibi birbirinden farklı dallarda başarılı olan sanatçı\, çalışmalarında özellikle kadınlara dayatılanlara ve onlara yapılan haksızlıklara yer veriyor. Kadınların kırsal bölgelerde özgürlük ve özerkliklerinin kısıtlanmasına değindiği kadar\, kentlerde sömürü mekanizmalarına maruz kalmalarına da değiniyor. Fakat portrelenen kadınların her şeyden önce\, özgürlük arayışları\, mücadeleleri ve umutları olan birer birey olduklarını unutmuyor. Çocuk yaşta evlendirilmek\, aile namusuna laf getirdi diye öldürülmek\, toplum baskısına maruz kalmak ve toplum baskısına karşı gelemeyip istediği hayatı yaşayamadan ölmek… Maalesef günümüzde kadın olmak\, dünyanın bir çok yöresinde bu anlama geliyor. Birçok kadının yazgısı\, doğduğu coğrafyaya ve aileye göre belirleniyor ve bu yazgı genelde kadınlar için iyi sonuçlanmıyor. Evet\, kadınlar geçmiş zamana göre bazı kazanımlar edindi\, fakat hakları için sürdürdükleri mücadele henüz tamamlanmamıştır. Kadınların büyük çoğunluğu hâlâ isimsiz\, yüzsüz ve hakları gasp edilmiş durumda. Ali Osman Yanak sergisinde bu isimsiz kadınların seslerini duyurmayı amaçlıyor ve hak mücadelesinde yanlarında olduğunu göstermek istiyor.\nSanatcıyla atölye çalışmaları planlanıyor\,\ntarihler burda ilan edilecek.\nKulturbunker Köln 5 Kasım – 20 Kasım tarihleri arasında Ali Osman Yanak’ın sergisine ev sahipliği yapıyor. Sergi açılışı Museumsnacht Köln kapsamında 5 Kasım 2022 tarihinde yapılacaktır.
URL:https://kulturbunker-muelheim.de/event/frau-kadin-jin-von-ali-o-yanak/
CATEGORIES:Kultur
ATTACH;FMTTYPE=image/jpeg:https://kulturbunker-muelheim.de/wp-content/uploads/2022/08/Yanak-scaled.jpg
END:VEVENT
BEGIN:VEVENT
DTSTART;TZID=Europe/Berlin:20221105T200000
DTEND;TZID=Europe/Berlin:20221106T200000
DTSTAMP:20260421T113455
CREATED:20221018T105309Z
LAST-MODIFIED:20221018T105309Z
UID:10000104-1667678400-1667764800@kulturbunker-muelheim.de
SUMMARY:Queerfeministische Kill*joy Kollektiv
DESCRIPTION:Du möchtest ausgelassen auf einer queerfeministischen Saferspace-Party in möglichst sicherer und diskriminierungsfreier Umgebung feiern gehen? Super\, denn dafür möchten wir am Samstag\, den 5.11.2022 im barrierefreien Kulturbunker Mülheim zwischen 20-6 Uhr sorgen! \nWir sind ein FLINTA* (Frauen\, Lesben\, inter*\, nichtbinär\, agender) Kollektiv und bieten ein reines FLINTA* Lineup\, das aus Bands und DJs besteht. Die Musikrichtung reicht unter anderem von Indie und Pop über Reggeaton bis zu Techno. \nFür Rückzugsorte ist gesorgt\, ebenso gibt es ein Awareness-Team. \nWir sind unkommerziell und auf eure finanzielle Unterstützung angewiesen\, damit wir unsere Kosten wieder reinholen und den Künstler*innen sowie dem Team ihre Arbeit entschädigen können. Wir freuen uns auf euch! \nDie Party ist offen für alle Menschen\, unabhängig der geschlechtlichen Identität (All Gender)! Im Sinne unseres Namens “kill*joy“ (aus „Living a feminist life“ von Sara Ahmed) behalten wir uns vor\, übergriffigen Personen den Spaß zu verderben und sie von unseren Veranstaltungen auszuschließen. \n• Du bist eine FLINTA*Person und möchtest uns an dem Abend unterstützen oder ins Kollektiv einsteigen? Dann melde dich bei uns unter kill_joy_kollektiv@riseup.net oder auf Instagram @killjoy_kollektiv! \n• All information in English on Instagram @killjoy_kollektiv
URL:https://kulturbunker-muelheim.de/event/queerfeministische-killjoy-kollektiv/
CATEGORIES:Kultur
ATTACH;FMTTYPE=image/jpeg:https://kulturbunker-muelheim.de/wp-content/uploads/2022/10/killjoy.jpg
END:VEVENT
END:VCALENDAR