BEGIN:VCALENDAR
VERSION:2.0
PRODID:-//Kulturbunker Köln-Mülheim - ECPv6.15.20//NONSGML v1.0//EN
CALSCALE:GREGORIAN
METHOD:PUBLISH
X-ORIGINAL-URL:https://kulturbunker-muelheim.de
X-WR-CALDESC:Veranstaltungen für Kulturbunker Köln-Mülheim
REFRESH-INTERVAL;VALUE=DURATION:PT1H
X-Robots-Tag:noindex
X-PUBLISHED-TTL:PT1H
BEGIN:VTIMEZONE
TZID:Europe/Berlin
BEGIN:DAYLIGHT
TZOFFSETFROM:+0100
TZOFFSETTO:+0200
TZNAME:CEST
DTSTART:20210328T010000
END:DAYLIGHT
BEGIN:STANDARD
TZOFFSETFROM:+0200
TZOFFSETTO:+0100
TZNAME:CET
DTSTART:20211031T010000
END:STANDARD
BEGIN:DAYLIGHT
TZOFFSETFROM:+0100
TZOFFSETTO:+0200
TZNAME:CEST
DTSTART:20220327T010000
END:DAYLIGHT
BEGIN:STANDARD
TZOFFSETFROM:+0200
TZOFFSETTO:+0100
TZNAME:CET
DTSTART:20221030T010000
END:STANDARD
BEGIN:DAYLIGHT
TZOFFSETFROM:+0100
TZOFFSETTO:+0200
TZNAME:CEST
DTSTART:20230326T010000
END:DAYLIGHT
BEGIN:STANDARD
TZOFFSETFROM:+0200
TZOFFSETTO:+0100
TZNAME:CET
DTSTART:20231029T010000
END:STANDARD
END:VTIMEZONE
BEGIN:VEVENT
DTSTART;TZID=Europe/Berlin:20221105T193000
DTEND;TZID=Europe/Berlin:20221120T200000
DTSTAMP:20260421T113729
CREATED:20220817T093821Z
LAST-MODIFIED:20221107T091608Z
UID:10000321-1667676600-1668974400@kulturbunker-muelheim.de
SUMMARY:Frau-Kadın-Jin von Ali O. Yanak
DESCRIPTION:Öffnungszeiten: \nMittwoch – Freitag 16-20 Uhr\nSamstag + Sonntag 14-20 Uhr\n\nFrau / Kadın / Jîn:\n\nAli Osman Yanak ist im kurdischen Diyarbakir im Südosten der Türkei aufgewachsen und hat in Istanbul Malerei studiert.\nIn seinen vielfältigen Arbeiten von grossformatigen urbanen Murals über photorealistische Gemälde bis zur klassischen Malerei befasst er sich unter anderem mit den Zumutungen\, mit denen Frauen im Laufe ihres Lebens umgehen müssen.\nEr thematisiert die Unterdrückung weiblicher Selbstbestimmung in ländlichen Gegenden Anatoliens genauso wie die nur wenig subtileren Ausbeutungsmechanismen in den grossen Städten.\n\nDie porträtierten Frauen sind aber immer Individuen\, deren Freiheitsstreben\, Kampfeswillen und Hoffnung spürbar bleibt.\nYanak kennt die konkreten Lebenssituationen der Frauen in der Türkei – von der frühen Verheiratung über patriarchalen Anpassungsdruck bis zur Selbstverleugnung. Die Betrachter*innen können aber immer auch die universellen Konflikte der modernen Frau zwischen Beruf / Mutterschaft\, Rollenbild / Selbstverwirklichung erkennen und reflektieren.\n\nDer Kulturbunker Mülheim zeigt Yanaks Bilder vom 5.11. (Vernissage im Rahmen der Museumsnacht) bis zum 20.11.22\nEs sind Workshops mit dem Künstler geplant\, die kurzfristig bekannt gegeben werden.\nEintritt frei\n\nTürkisch//\nDiyarbakır’da doğup büyüyen Ali Osman Yanak\, daha sonra Konya ve İstanbul’da güzel sanatlar alanında eğitim alır ve bu eğitimi başarıyla tamamlar. Duvar boyama sanatı\, fotogerçekçi ve klasik resim gibi birbirinden farklı dallarda başarılı olan sanatçı\, çalışmalarında özellikle kadınlara dayatılanlara ve onlara yapılan haksızlıklara yer veriyor. Kadınların kırsal bölgelerde özgürlük ve özerkliklerinin kısıtlanmasına değindiği kadar\, kentlerde sömürü mekanizmalarına maruz kalmalarına da değiniyor. Fakat portrelenen kadınların her şeyden önce\, özgürlük arayışları\, mücadeleleri ve umutları olan birer birey olduklarını unutmuyor. Çocuk yaşta evlendirilmek\, aile namusuna laf getirdi diye öldürülmek\, toplum baskısına maruz kalmak ve toplum baskısına karşı gelemeyip istediği hayatı yaşayamadan ölmek… Maalesef günümüzde kadın olmak\, dünyanın bir çok yöresinde bu anlama geliyor. Birçok kadının yazgısı\, doğduğu coğrafyaya ve aileye göre belirleniyor ve bu yazgı genelde kadınlar için iyi sonuçlanmıyor. Evet\, kadınlar geçmiş zamana göre bazı kazanımlar edindi\, fakat hakları için sürdürdükleri mücadele henüz tamamlanmamıştır. Kadınların büyük çoğunluğu hâlâ isimsiz\, yüzsüz ve hakları gasp edilmiş durumda. Ali Osman Yanak sergisinde bu isimsiz kadınların seslerini duyurmayı amaçlıyor ve hak mücadelesinde yanlarında olduğunu göstermek istiyor.\nSanatcıyla atölye çalışmaları planlanıyor\,\ntarihler burda ilan edilecek.\nKulturbunker Köln 5 Kasım – 20 Kasım tarihleri arasında Ali Osman Yanak’ın sergisine ev sahipliği yapıyor. Sergi açılışı Museumsnacht Köln kapsamında 5 Kasım 2022 tarihinde yapılacaktır.
URL:https://kulturbunker-muelheim.de/event/frau-kadin-jin-von-ali-o-yanak/
CATEGORIES:Kultur
ATTACH;FMTTYPE=image/jpeg:https://kulturbunker-muelheim.de/wp-content/uploads/2022/08/Yanak-scaled.jpg
END:VEVENT
BEGIN:VEVENT
DTSTART;TZID=Europe/Berlin:20221120T173000
DTEND;TZID=Europe/Berlin:20221120T190000
DTSTAMP:20260421T113729
CREATED:20221110T084804Z
LAST-MODIFIED:20221110T084804Z
UID:10000112-1668965400-1668970800@kulturbunker-muelheim.de
SUMMARY:OPEN THE DOOR A WINDOW #5 BRIAN CATLING (UK) & JAMES KING (N-IRE)
DESCRIPTION:Liveperformances organisiert vom International Performance Art Archive BLACK KIT \nwww.performanceartarchive.com \nDas International Performance Art Archive realisiert für Köln eine neue Kultur-Reihe: öffnet die tür das fenster. An 5 Sonntagsterminen kommen 10 großartige Performance-Künstler*innen aus unterschiedlichen Kontinenten in den Kulturbunker Köln-Mülheim: Performances auf internationalem Spitzenniveau. Anschließend reisen die jeweiligen Paarungen weiter in die Kunsthalle Gießen. \nöffnet die tür das fenster\nInternationale Performance Art-Reihe\nvom International Performance Art Archive Black Kit| Die Schwarze Lade \nKulturbunker Köln-Mülheim\, Berliner Str. 20\, 51063 Cologne\, \nRIAN CATLING – britischer Performance Künstler\, Schriftsteller und Professor für Fine Art in Oxford – kämpfte trotz schwerer Krankheit bis zuletzt\, Teil der Performance-Reihe open the door a window sein zu können. Noch im September verabredeten wir\, er könne jederzeit nach Köln kommen und druckten eine neue Einladung: BRIAN CATLING. carte blanche. Am 26. September 2022 erlag er seiner Krebserkrankung. Wir sind tief betrübt und voller Anteilnahme. Ohne diesen wunderbaren Künstler wollen wir unsere Performance-Reihe nicht abschließen. \nUnd auch nicht ohne JAMES KING: Seit 45 Jahren als Performance-Künstler unterwegs und 30 Jahre Dozent im Bereich Community Drama\, erklimmt er die Brücken\, Fahrradständer oder Mülltonnen in Derry\, er bringt die Performance Art weltweit auf die Straße und in die Stadt. In seinen Performances hinterfragt KING das in der Welt-Sein\, oftmals nicht allein: Sein Wissen um intuitive Spontaneität ist eine offene Einladung an Künstlerkolleg*innen wie Vorbeigehende\, sich einzubringen\, den öffentlichen Raum zu nutzen und fordern. Von sprachlicher Poesie\, spielerischem Straßentheater bis hin zu künstlerischem Protest reicht die Praxis des Mitbegründers der nordirischen Performance Art. \nBRIAN CATLING – British performance artist\, writer and professor of Fine Art at Oxford – fought until the end to be part of the performance series open the door a window\, despite a serious illness. In September a new invitation was printed\, promising that he could come to Cologne at any time: BRIAN CATLING. carte blanche. On 26 September 2022 he passed away from cancer. We are deeply saddened and full of condolence. We do not want to close our performance series without this wonderful artist.\nNor without JAMES KING: on the road for 45 years as a performance artist and lecturer in the field of community drama\, he scales the bridges\, bicycle racks or rubbish bins in Derry\, he brings performance art onto the streets and into the city worldwide. In his performances\, KING questions being in the world\, often not alone: his knowledge of intuitive spontaneity is an open invitation to fellow artists and passers-by alike to get involved\, to use and challenge public space. The practice of the pioneer of Northern Irish performance art ranges from linguistic poetry and playful street theatre to artistic protest. \nTwo great artists\, two great people and performance art workers. We are deeply honoured\, thankful and greatly in anticipation. \nAn investigation into the extra-ordinary work of B.Catling. Geoff Cox & Andy Starke’s film is an eye-popping insight into the late-flourishing career of the maverick artist\, teacher and performer. \nFreier Eintritt | Entry free \nDank an den Kulturbunker Köln-Mühlheim\nGefördert von NRW Landesbüro Freie Darstellende Künste | Ministerium für Kultur und Wissenschaft
URL:https://kulturbunker-muelheim.de/event/open-the-door-a-window-5-brian-catling-uk-james-king-n-ire/
CATEGORIES:Kultur
ATTACH;FMTTYPE=image/jpeg:https://kulturbunker-muelheim.de/wp-content/uploads/2022/11/Blackkit.jpg
END:VEVENT
END:VCALENDAR