BEGIN:VCALENDAR
VERSION:2.0
PRODID:-//Kulturbunker Köln-Mülheim - ECPv6.15.20//NONSGML v1.0//EN
CALSCALE:GREGORIAN
METHOD:PUBLISH
X-WR-CALNAME:Kulturbunker Köln-Mülheim
X-ORIGINAL-URL:https://kulturbunker-muelheim.de
X-WR-CALDESC:Veranstaltungen für Kulturbunker Köln-Mülheim
REFRESH-INTERVAL;VALUE=DURATION:PT1H
X-Robots-Tag:noindex
X-PUBLISHED-TTL:PT1H
BEGIN:VTIMEZONE
TZID:Europe/Berlin
BEGIN:DAYLIGHT
TZOFFSETFROM:+0100
TZOFFSETTO:+0200
TZNAME:CEST
DTSTART:20210328T010000
END:DAYLIGHT
BEGIN:STANDARD
TZOFFSETFROM:+0200
TZOFFSETTO:+0100
TZNAME:CET
DTSTART:20211031T010000
END:STANDARD
BEGIN:DAYLIGHT
TZOFFSETFROM:+0100
TZOFFSETTO:+0200
TZNAME:CEST
DTSTART:20220327T010000
END:DAYLIGHT
BEGIN:STANDARD
TZOFFSETFROM:+0200
TZOFFSETTO:+0100
TZNAME:CET
DTSTART:20221030T010000
END:STANDARD
BEGIN:DAYLIGHT
TZOFFSETFROM:+0100
TZOFFSETTO:+0200
TZNAME:CEST
DTSTART:20230326T010000
END:DAYLIGHT
BEGIN:STANDARD
TZOFFSETFROM:+0200
TZOFFSETTO:+0100
TZNAME:CET
DTSTART:20231029T010000
END:STANDARD
END:VTIMEZONE
BEGIN:VEVENT
DTSTART;TZID=Europe/Berlin:20221121T090000
DTEND;TZID=Europe/Berlin:20221123T153000
DTSTAMP:20260421T113457
CREATED:20220906T082732Z
LAST-MODIFIED:20221028T102534Z
UID:10000095-1669021200-1669217400@kulturbunker-muelheim.de
SUMMARY:CINEPÄNZ 33. Kölner Kinderfilmfest
DESCRIPTION:CINEPÄNZ 32. Kölner Kinderfilmfest\nThemenreihe „Veränderung“ \nWir zeigen am 21.\, 22. und 23.11.2022 spannende\, witzige\, berührende oder zauberhafte Filme für Kinder von 6 – 16 Jahren. \nMontag\, 21.11.\n9.00 Uhr Mein Lotta-Leben – Alles Bingo mit Flamingo // empfohlen ab 6 Jahren\n11. Uhr Rocca verändert die Welt // empfohlen ab 8 Jahren AUSVERKAUFT\n14 Uhr Amelie rennt // empfohlen ab 8 Jahren AUSVERKAUFT \nDienstag\, 22.11.\n9 Uhr Quatsch und die Nasenbärbande // empfohlen ab 3 Jahren\n11 Uhr Binti – Es gibt mich! // empfohlen ab 6 Jahren\n14 Uhr Madison – Ungebremste Girlpower // empfohlen ab 10 Jahren AUSVERKAUFT \nMittwoch\, 23.11.\n9 Uhr Übergeschnappt (Knetter) // empfohlen ab 8 Jahren\n11 Uhr Zu weit weg – Aber Freunde für immer // empfohlen ab 8 Jahren\n14 Uhr Youth Unstoppable – Der Aufstieg der globalen Jugend-Klimabewegung // empfohlen ab 12 Jahren AUSVERKAUFT \n  \nDie Filmauswahl mit allen Informationen zu den jeweiligen Filmen finden Sie hier: Cinepaenz im Kulturbunker 2022 \nDie Eintrittspreise liegen bei 3\,- Euro für Kinder und 4\,- Euro für Erwachsene. Für Gruppen ab 10 Kindern und mehr liegt der Eintrittspreis bei 2\,50 Euro pro Kind.\nAnmeldungen nehmen wir gerne per Mail unter info@kulturbunker-muelheim.de oder telefonisch unter 0221 61 69 26 entgegen.
URL:https://kulturbunker-muelheim.de/event/cinepaenz-33-koelner-kinderfilmfest/
CATEGORIES:Kultur
ATTACH;FMTTYPE=image/jpeg:https://kulturbunker-muelheim.de/wp-content/uploads/2022/09/Cinepaenz.jpg
END:VEVENT
END:VCALENDAR