BEGIN:VCALENDAR
VERSION:2.0
PRODID:-//Kulturbunker Köln-Mülheim - ECPv6.15.20//NONSGML v1.0//EN
CALSCALE:GREGORIAN
METHOD:PUBLISH
X-WR-CALNAME:Kulturbunker Köln-Mülheim
X-ORIGINAL-URL:https://kulturbunker-muelheim.de
X-WR-CALDESC:Veranstaltungen für Kulturbunker Köln-Mülheim
REFRESH-INTERVAL;VALUE=DURATION:PT1H
X-Robots-Tag:noindex
X-PUBLISHED-TTL:PT1H
BEGIN:VTIMEZONE
TZID:Europe/Berlin
BEGIN:DAYLIGHT
TZOFFSETFROM:+0100
TZOFFSETTO:+0200
TZNAME:CEST
DTSTART:20210328T010000
END:DAYLIGHT
BEGIN:STANDARD
TZOFFSETFROM:+0200
TZOFFSETTO:+0100
TZNAME:CET
DTSTART:20211031T010000
END:STANDARD
BEGIN:DAYLIGHT
TZOFFSETFROM:+0100
TZOFFSETTO:+0200
TZNAME:CEST
DTSTART:20220327T010000
END:DAYLIGHT
BEGIN:STANDARD
TZOFFSETFROM:+0200
TZOFFSETTO:+0100
TZNAME:CET
DTSTART:20221030T010000
END:STANDARD
BEGIN:DAYLIGHT
TZOFFSETFROM:+0100
TZOFFSETTO:+0200
TZNAME:CEST
DTSTART:20230326T010000
END:DAYLIGHT
BEGIN:STANDARD
TZOFFSETFROM:+0200
TZOFFSETTO:+0100
TZNAME:CET
DTSTART:20231029T010000
END:STANDARD
END:VTIMEZONE
BEGIN:VEVENT
DTSTART;TZID=Europe/Berlin:20221123T100000
DTEND;TZID=Europe/Berlin:20221210T213000
DTSTAMP:20260421T113548
CREATED:20221103T085546Z
LAST-MODIFIED:20221103T103728Z
UID:10000343-1669197600-1670707800@kulturbunker-muelheim.de
SUMMARY:Angst trifft Mut // Aktionsbündnis Orange Days
DESCRIPTION:„ANGST trifft MUT“\nStellvertretend für die von häuslicher Gewalt betroffenen Frauen stehen die Schaufensterpuppen in orange gekleidet\, auf den Aufstellern neben ihnen die Zusammenfassung ihrer ganz persönlichen Geschichte.\nDie Ausstellung „ANGST trifft MUT“ macht darauf aufmerksam\, dass häusliche Gewalt weltweit immer noch ein großes Problem ist und in allen Kulturen und sozialen Schichten vorkommt. Sie soll dazu anregen\, über Gewalt gegen Frauen ins Gespräch zu kommen: Häusliche Gewalt darf nicht hingenommen werden. Wir dürfen Frauen in unseren Familien\, in unserer Nachbarschaft und auch Kolleginnen nicht alleine lassen\, wenn wir Anzeichen von häuslicher Gewalt bemerken.\nDie Ausstellung wird präsentiert vom Aktionsbündnis Orange Days. \nZu sehen ist sie vom 23.11. – 10.12. im Toré im Kulturbunker Mühlheim (gem. Öffnungszeiten). \nweitere Infos unter:\nhttps://orangedays-koeln.de/ \nDie Geschichten sind ein Sinnbild\, Angst zu überwinden und Betroffenen Mut zu machen. Du brauchst Hilfe? Hier findest du sie!
URL:https://kulturbunker-muelheim.de/event/angst-trifft-mut-aktionsbuendnis-orange-days/
CATEGORIES:Kultur
ATTACH;FMTTYPE=image/jpeg:https://kulturbunker-muelheim.de/wp-content/uploads/2022/11/Zonta.jpg
END:VEVENT
BEGIN:VEVENT
DTSTART;TZID=Europe/Berlin:20221124T200000
DTEND;TZID=Europe/Berlin:20221125T220000
DTSTAMP:20260421T113548
CREATED:20221018T103835Z
LAST-MODIFIED:20221018T103835Z
UID:10000103-1669320000-1669413600@kulturbunker-muelheim.de
SUMMARY:GORILLA Ensembles  // Der sechste Gang
DESCRIPTION:Well done\, medium oder blutig?\nDer sechste Gang ist ein tragikomisches Kammerspiel des GORILLA Ensembles aus dem Jahr 2021. Das Stück kann wie ein Buffet genossen werden. Von allem etwas und von allem zu viel. Es ist Gedankenfutter\, Henkers-Mahlzeit\, Sozialkritik und Wahrnehmungsschulung. Zärtlich und brutal. Und garantiert jenseits von „Gut und Böse“ oder „Falsch und Richtig“. \nWenn sich sonst nichts deckt\, wird der Tisch gedeckt. \nFünf ehemalige Schulfreundinnen treffen sich wie wohl so viele\, denen die gemeinsamen Hobbys abhandengekommen sind\, zum Essen. Ihrer Tradition entsprechend bereitet jede der Frauen einen Gang für das Menü vor. Was als Kompromiss gedacht ist\, artet schon bald auch aufgrund ihrer unterschiedlichen Ernährungsweisen zu einem emotionalen Durcheinander aus – voller überraschender Wendungen und delikater Offenbarungen. Ihre Suche nach Verbundenheit\, Moralität\, Spiritualität und Identität offenbart Geheimnisse und Lebenslügen. Sie überfressen sich – aneinander\, an der Welt\, an ihrer eigenen Doppelmoral. \nKonzept/Regie: Maik Giesbert\nKonzept/Skript: Nele Beckmann \nEs spielen: Nele Beckmann\, Patricia Fanroth\, Julia Knorst/Sandra Pohl\, Britta Sensenschmidt\, Stephanie Voit \nDas Theaterkollektiv GORILLA wurde im Jahr 2015 in Köln gegründet und besteht heute aus einem festen Ensemble\, das nach und nach gewachsen ist. Seit der Gründung entwickelt das Ensemble in unterschiedlichen Konstellationen thematisch basierte Eigenproduktionen. \n3./ 4./ 24. & 25.11.2022 \nBeginn jeweils 20 Uhr \nEintritt: 19\,- €\, ermäßigt 12\,- € \nTickets unter:\nDer sechste Gang – Tickets kaufen (rausgegangen.de)\noder an der AK. \nWeitere Informationen:\nhttps://www.gorilla-theaterprogramme.de/der-sechste-gang/
URL:https://kulturbunker-muelheim.de/event/gorilla-ensembles-der-sechste-gang-2/
CATEGORIES:Kultur
ATTACH;FMTTYPE=image/png:https://kulturbunker-muelheim.de/wp-content/uploads/2022/10/Bild1.png
END:VEVENT
END:VCALENDAR