BEGIN:VCALENDAR
VERSION:2.0
PRODID:-//Kulturbunker Köln-Mülheim - ECPv6.15.20//NONSGML v1.0//EN
CALSCALE:GREGORIAN
METHOD:PUBLISH
X-ORIGINAL-URL:https://kulturbunker-muelheim.de
X-WR-CALDESC:Veranstaltungen für Kulturbunker Köln-Mülheim
REFRESH-INTERVAL;VALUE=DURATION:PT1H
X-Robots-Tag:noindex
X-PUBLISHED-TTL:PT1H
BEGIN:VTIMEZONE
TZID:Europe/Berlin
BEGIN:DAYLIGHT
TZOFFSETFROM:+0100
TZOFFSETTO:+0200
TZNAME:CEST
DTSTART:20220327T010000
END:DAYLIGHT
BEGIN:STANDARD
TZOFFSETFROM:+0200
TZOFFSETTO:+0100
TZNAME:CET
DTSTART:20221030T010000
END:STANDARD
BEGIN:DAYLIGHT
TZOFFSETFROM:+0100
TZOFFSETTO:+0200
TZNAME:CEST
DTSTART:20230326T010000
END:DAYLIGHT
BEGIN:STANDARD
TZOFFSETFROM:+0200
TZOFFSETTO:+0100
TZNAME:CET
DTSTART:20231029T010000
END:STANDARD
BEGIN:DAYLIGHT
TZOFFSETFROM:+0100
TZOFFSETTO:+0200
TZNAME:CEST
DTSTART:20240331T010000
END:DAYLIGHT
BEGIN:STANDARD
TZOFFSETFROM:+0200
TZOFFSETTO:+0100
TZNAME:CET
DTSTART:20241027T010000
END:STANDARD
END:VTIMEZONE
BEGIN:VEVENT
DTSTART;TZID=Europe/Berlin:20230301T170000
DTEND;TZID=Europe/Berlin:20230305T160000
DTSTAMP:20260421T083228
CREATED:20230210T131131Z
LAST-MODIFIED:20230212T174620Z
UID:10000130-1677690000-1678032000@kulturbunker-muelheim.de
SUMMARY:Alexander Dörr // Kopf und Gefühl
DESCRIPTION:In den Werken von Alexander Dörr steht die Betonung der Bilder-Sprache\, als ältestes Sprachmittel unserer Geschichte\, im Vordergrund. Seine künstlerische Reflexion unserer Gegenwart ist geprägt durch viel Witz und Ironie.\nMit ideenreichen Motiven nähert er sich zeitgenössischen Themen\, die bewusst mit provokanten Texten versehen werden wie: Alles…wichtig!?\,…und das Beste sind wir!?\, Fastfood\, Facebook\, burn out\, Chaosland Deutschland.\nWie damals der deutsche Impressionist Max Liebermann bezieht Alexander Dörr mit seinen Werken Opposition gegen die offizielle Kunstpolitik. Er kämpft gegen etablierte Strukturen\, gegen die Bedenkenträger\, um neuen Strategien den Weg zu bahnen.\n——————– \nÖffnungszeiten:\n1. März: Vernissage um 17. 00 Uhr\n               Einführung um 17.30 Uhr\n4. und 5. März: geöffnet von 11.00 – 16.00 Uhr\n——————– \nEintritt frei //\n 
URL:https://kulturbunker-muelheim.de/event/alexander-doerr-kopf-und-gefuehl/
CATEGORIES:Kultur
ATTACH;FMTTYPE=image/png:https://kulturbunker-muelheim.de/wp-content/uploads/2023/02/alex-doerr.png
END:VEVENT
END:VCALENDAR