BEGIN:VCALENDAR
VERSION:2.0
PRODID:-//Kulturbunker Köln-Mülheim - ECPv6.15.20//NONSGML v1.0//EN
CALSCALE:GREGORIAN
METHOD:PUBLISH
X-WR-CALNAME:Kulturbunker Köln-Mülheim
X-ORIGINAL-URL:https://kulturbunker-muelheim.de
X-WR-CALDESC:Veranstaltungen für Kulturbunker Köln-Mülheim
REFRESH-INTERVAL;VALUE=DURATION:PT1H
X-Robots-Tag:noindex
X-PUBLISHED-TTL:PT1H
BEGIN:VTIMEZONE
TZID:Europe/Berlin
BEGIN:DAYLIGHT
TZOFFSETFROM:+0100
TZOFFSETTO:+0200
TZNAME:CEST
DTSTART:20230326T010000
END:DAYLIGHT
BEGIN:STANDARD
TZOFFSETFROM:+0200
TZOFFSETTO:+0100
TZNAME:CET
DTSTART:20231029T010000
END:STANDARD
BEGIN:DAYLIGHT
TZOFFSETFROM:+0100
TZOFFSETTO:+0200
TZNAME:CEST
DTSTART:20240331T010000
END:DAYLIGHT
BEGIN:STANDARD
TZOFFSETFROM:+0200
TZOFFSETTO:+0100
TZNAME:CET
DTSTART:20241027T010000
END:STANDARD
BEGIN:DAYLIGHT
TZOFFSETFROM:+0100
TZOFFSETTO:+0200
TZNAME:CEST
DTSTART:20250330T010000
END:DAYLIGHT
BEGIN:STANDARD
TZOFFSETFROM:+0200
TZOFFSETTO:+0100
TZNAME:CET
DTSTART:20251026T010000
END:STANDARD
END:VTIMEZONE
BEGIN:VEVENT
DTSTART;TZID=Europe/Berlin:20240111T200000
DTEND;TZID=Europe/Berlin:20240111T220000
DTSTAMP:20260423T133330
CREATED:20231122T105728Z
LAST-MODIFIED:20231221T143250Z
UID:10000180-1705003200-1705010400@kulturbunker-muelheim.de
SUMMARY:Okan Çabalar Stand Up // Europe Tour 2024 (Verschoben)
DESCRIPTION:Stand-Up auf türkisch // Türke Stand-Up\n\n  \n!!! Die Veranstaltung wird verschoben. Weitere Infos tba. \n\nTR: \nBayanlar ve baylar\, sizi Okan Çabalar ile tanıştırırken gülmekten karnınızı tutmaya hazır olun! Aslen Türk televizyon ve sinemasının hareketli dünyasından gelen Okan\, sadece karizmatik bir oyuncu değil\, aynı zamanda stand-up komedi alanında da bir sansasyon. Kıvrak zekası\, bulaşıcı mizahı ve günlük durumları içten kahkahalara dönüştürme konusundaki inanılmaz yeteneği ile Türkiye’yi kasıp kavurdu. Ve şimdi komik stand-up gösterisini Avrupa’ya getiriyor! Gülmekten gözlerinizi yaşartacak bir komedi yolculuğuna hazır olun. Öyleyse\, daha fazla tereddüt etmeden\, gecenin adamı Okan Çabalar’a sıcak bir Avrupalı karşılaması yapalım! \n  \n\n  \nDE: \nDamen und Herren\, machen Sie sich bereit\, um sich vor Lachen die Bäuche zu halten\, während wir Ihnen den unvergleichlichen Okan Çabalar vorstellen! Ursprünglich aus der lebendigen Welt des türkischen Fernsehens und Kinos stammend\, ist Okan nicht nur ein charismatischer Schauspieler\, sondern auch eine Sensation im Bereich Stand-up-Comedy. Er hat die Türkei im Sturm erobert mit seiner Schlagfertigkeit\, ansteckendem Humor und der erstaunlichen Fähigkeit\, alltägliche Situationen in herzhaftes Gelächter zu verwandeln. Und jetzt bringt er seine urkomische Stand-up-Show nach Europa! Machen Sie sich bereit für eine Reise voller Comedy\, die Sie vor Lachen die Tränen in die Augen treiben wird. Also\, ohne weiteres Zögern\, lasst uns einen herzlichen europäischen Empfang für den Mann des Abends\, Okan Çabalar\, bereiten! \n\n\n  \n 
URL:https://kulturbunker-muelheim.de/event/okan-cabalar-stand-up/
CATEGORIES:Kultur
ATTACH;FMTTYPE=image/jpeg:https://kulturbunker-muelheim.de/wp-content/uploads/2023/11/okan-kleinedatei.jpg
END:VEVENT
END:VCALENDAR