BEGIN:VCALENDAR
VERSION:2.0
PRODID:-//Kulturbunker Köln-Mülheim - ECPv6.15.20//NONSGML v1.0//EN
CALSCALE:GREGORIAN
METHOD:PUBLISH
X-ORIGINAL-URL:https://kulturbunker-muelheim.de
X-WR-CALDESC:Veranstaltungen für Kulturbunker Köln-Mülheim
REFRESH-INTERVAL;VALUE=DURATION:PT1H
X-Robots-Tag:noindex
X-PUBLISHED-TTL:PT1H
BEGIN:VTIMEZONE
TZID:Europe/Berlin
BEGIN:DAYLIGHT
TZOFFSETFROM:+0100
TZOFFSETTO:+0200
TZNAME:CEST
DTSTART:20230326T010000
END:DAYLIGHT
BEGIN:STANDARD
TZOFFSETFROM:+0200
TZOFFSETTO:+0100
TZNAME:CET
DTSTART:20231029T010000
END:STANDARD
BEGIN:DAYLIGHT
TZOFFSETFROM:+0100
TZOFFSETTO:+0200
TZNAME:CEST
DTSTART:20240331T010000
END:DAYLIGHT
BEGIN:STANDARD
TZOFFSETFROM:+0200
TZOFFSETTO:+0100
TZNAME:CET
DTSTART:20241027T010000
END:STANDARD
BEGIN:DAYLIGHT
TZOFFSETFROM:+0100
TZOFFSETTO:+0200
TZNAME:CEST
DTSTART:20250330T010000
END:DAYLIGHT
BEGIN:STANDARD
TZOFFSETFROM:+0200
TZOFFSETTO:+0100
TZNAME:CET
DTSTART:20251026T010000
END:STANDARD
END:VTIMEZONE
BEGIN:VEVENT
DTSTART;TZID=Europe/Berlin:20240118T190000
DTEND;TZID=Europe/Berlin:20240118T210000
DTSTAMP:20260423T133550
CREATED:20231205T134619Z
LAST-MODIFIED:20231211T153015Z
UID:10000185-1705604400-1705611600@kulturbunker-muelheim.de
SUMMARY:GLOBALE MUSIK KÖLN // Podiumsdiskussionsreihe »Kölner Klänge«
DESCRIPTION:Podiumsdiskussionsreihe »Kölner Klänge«\n  \n\n\n\n\n\n\n\n\n\n\nIn einer so heterogenen Musikszene wie der „globalen Musik“ gibt es immer Diskussionsbedarf. Sei es über die Begriffe und Grenzen\, praktische Probleme oder über gesellschaftliche Potenziale. Der Verein Globale Musik Köln e.V. setzt seine Podiumsdiskussions-Reihe »Kölner Klänge« 2023/24 mit drei Terminen fort. In den Diskussionen soll der lebendige\, ehrliche\, aber auch kritische Austausch zu verschiedenen kultur- und bildungspolitischen Themen\, die den professionellen Alltag Kölner Musiker*innen und Communities in der täglichen Arbeit berühren\, angeregt werden. \n  \n\n\nAm Donnerstag\, den 18. Januar 2024 | 19 Uhr findet im Kulturbunker Mülheim Teil 3 der Diskussionsreihe statt. Anschließend an die ersten beiden Podiumsgespräche zu den Themen „In Indien ist Beethoven Weltmusik! Eine Frage der Perspektive?“ und „Wer bin ich (nicht)? Gespräch über Zuschreibungen und Nicht-Identitäten im Kontext „globaler Musik“!? möchten wir diesmal gemeinsam mit Euch über die Frage sprechen: \n„Migrantisches im Kölner Brauchtum?“\nEin Brauch ist eine innerhalb einer Gemeinschaft entstandene\, regelmäßig wiederkehrende\, soziale Handlung von Menschen in festen\, stark ritualisierten Formen. Bräuche sind Ausdruck der Tradition. Wir möchten wissen: wie migrantisch ist Brauchtum in Köln? Wie sichtbar sind migrantische Traditionen in der Kölner Gesellschaft. Welche Rahmenbedingungen fördern oder hindern diese Sichtbarkeit? Wie etabliert sind migrantische Perspektiven\, als Teil von Kölner Perspektiven auch im Kulturpolitischen Kontext? Und welche Rolle spielt der Kölner Karneval dabei? \n  \n\n\nPodium: Myriam Chebabi (Immisitzung)\, Lorenz Deutsch (Kulturpolitischer Sprecher der FDP)\, Jan Krauthäuser (Humba e.V./Globale Musik Köln e.V.)\, Bömmel Lückerath (Musiker\, ehem. Bläck Föös)\, Glenda Obermüller (Sonnenblumen Community Development Group e.V.) \n  \n\n\n  \nEintritt frei // keine Reservierung oder Anmeldung notwendig
URL:https://kulturbunker-muelheim.de/event/globale-musik-podiumsdiskussionsreihe/
CATEGORIES:Kultur
ATTACH;FMTTYPE=image/jpeg:https://kulturbunker-muelheim.de/wp-content/uploads/2023/12/DSCF9503.jpeg
END:VEVENT
END:VCALENDAR