BEGIN:VCALENDAR
VERSION:2.0
PRODID:-//Kulturbunker Köln-Mülheim - ECPv6.15.20//NONSGML v1.0//EN
CALSCALE:GREGORIAN
METHOD:PUBLISH
X-ORIGINAL-URL:https://kulturbunker-muelheim.de
X-WR-CALDESC:Veranstaltungen für Kulturbunker Köln-Mülheim
REFRESH-INTERVAL;VALUE=DURATION:PT1H
X-Robots-Tag:noindex
X-PUBLISHED-TTL:PT1H
BEGIN:VTIMEZONE
TZID:Europe/Berlin
BEGIN:DAYLIGHT
TZOFFSETFROM:+0100
TZOFFSETTO:+0200
TZNAME:CEST
DTSTART:20230326T010000
END:DAYLIGHT
BEGIN:STANDARD
TZOFFSETFROM:+0200
TZOFFSETTO:+0100
TZNAME:CET
DTSTART:20231029T010000
END:STANDARD
BEGIN:DAYLIGHT
TZOFFSETFROM:+0100
TZOFFSETTO:+0200
TZNAME:CEST
DTSTART:20240331T010000
END:DAYLIGHT
BEGIN:STANDARD
TZOFFSETFROM:+0200
TZOFFSETTO:+0100
TZNAME:CET
DTSTART:20241027T010000
END:STANDARD
BEGIN:DAYLIGHT
TZOFFSETFROM:+0100
TZOFFSETTO:+0200
TZNAME:CEST
DTSTART:20250330T010000
END:DAYLIGHT
BEGIN:STANDARD
TZOFFSETFROM:+0200
TZOFFSETTO:+0100
TZNAME:CET
DTSTART:20251026T010000
END:STANDARD
END:VTIMEZONE
BEGIN:VEVENT
DTSTART;TZID=Europe/Berlin:20240125T193000
DTEND;TZID=Europe/Berlin:20240125T213000
DTSTAMP:20260423T133509
CREATED:20231130T113758Z
LAST-MODIFIED:20231130T120024Z
UID:10000184-1706211000-1706218200@kulturbunker-muelheim.de
SUMMARY:“Hawazgê Kılamo – XIDIR – Ağıtların Sesi”
DESCRIPTION:Dokumentarfilm\nDelil Xıdır ve Hıdır Akgül’ün sanat ve hayat yolculuğunu irdeleyen bir ana dil belgeselidir. Ağıtlar üzerinden bugüne dek gelmiş olan dilimizin\, bundan sonrasına aktarımı için değerli ozanlarımız henüz canlı ve güçlü bir hafızaya sahipken\, onların birikimlerini görsele aktarmak istedim. Bu çalışmayla bir nebze de olsa ana dilime katkı sunmayı amaçladım.Yıllardır Avrupa’da yaşayan Delil Xıdır\, babası Musayê Mılli ve Hesê Qaji’den aldığı feyz ile kılamlarını ana diliyle besteleyip\, söyleme ısrarını sürdürüyor. \n“Bizim ‘Kılam ve Şaur Vatoğlarımız’ (ağıt ve ezgi söyleyen) eserlerini dağların gerdanında sakladılar\, korudular ve bize verdiler. Biz de onlardan aldığımız bu emaneti koruyacağız ve onu çocuklarımıza teslim edeceğiz” diyen Delil Xıdır\, “Rındeka Dersimi” kılamında\, kanaviçesini nakış nakış işleyerek mitolojik bir geçişle\, aşkı ve sevdayı bize sunar. \nDelil Xıdır zamana meydan okurcasına hâlâ üretmeye\, çalmaya\, söylemeye devam ediyor. \nHıdır Akgül\, “ne yaptılarsa ben memleketimi terk etmedim\, ben neden el aleme bırakayım yerimi yurdumu?” der. Henüz yirmili yaşlarında ve ilk bestesi “Dewê\, dewê” ile toprağına\, köyüne düşkünlüğünü bestelemiş ve bu bestesi Dersim’in klasikleri arasında yerini almıştır. \nAna dilinden vaz geçmeyip\, onda ısrar etmesi onun diliyle olan güçlü bağını göstermektedir. Her iki ozanın da Dersim 38 kırımını anlattıkları eserleri aslında insanımızın hikayelerinden başka bir şey değildir ve bu belleğin tam da ortasına kurşun dökmektir. Dil\, coğrafya ve inanç üçlemi üzerinden arşiv niteliğindeki bu kıymetli belgeseli sizlere sunmaktan onur duyuyorum. İki ozanımıza da minnettarım ve uzun ömürler diliyorum. \nYönetmen: Hasan Sağlam 2022\n\n\nYoutube: https://www.youtube.com/watch?v=jqD29tLWAHM&t=4s\n\n\n\n————————————–\n\nBiletler 9 € (Artı ön rezervasyon ücretleri): https://t.rausgegangen.de/tickets/hawazge-klamo-xidir-agtlarn-sesi\n\nGişe 14 €
URL:https://kulturbunker-muelheim.de/event/xidir-dokumentarfilm/
CATEGORIES:Kultur
ATTACH;FMTTYPE=image/jpeg:https://kulturbunker-muelheim.de/wp-content/uploads/2023/11/baski-icin-son-afis_5.2.1.jpg
END:VEVENT
END:VCALENDAR