BEGIN:VCALENDAR
VERSION:2.0
PRODID:-//Kulturbunker Köln-Mülheim - ECPv6.15.20//NONSGML v1.0//EN
CALSCALE:GREGORIAN
METHOD:PUBLISH
X-WR-CALNAME:Kulturbunker Köln-Mülheim
X-ORIGINAL-URL:https://kulturbunker-muelheim.de
X-WR-CALDESC:Veranstaltungen für Kulturbunker Köln-Mülheim
REFRESH-INTERVAL;VALUE=DURATION:PT1H
X-Robots-Tag:noindex
X-PUBLISHED-TTL:PT1H
BEGIN:VTIMEZONE
TZID:Europe/Berlin
BEGIN:DAYLIGHT
TZOFFSETFROM:+0100
TZOFFSETTO:+0200
TZNAME:CEST
DTSTART:20230326T010000
END:DAYLIGHT
BEGIN:STANDARD
TZOFFSETFROM:+0200
TZOFFSETTO:+0100
TZNAME:CET
DTSTART:20231029T010000
END:STANDARD
BEGIN:DAYLIGHT
TZOFFSETFROM:+0100
TZOFFSETTO:+0200
TZNAME:CEST
DTSTART:20240331T010000
END:DAYLIGHT
BEGIN:STANDARD
TZOFFSETFROM:+0200
TZOFFSETTO:+0100
TZNAME:CET
DTSTART:20241027T010000
END:STANDARD
BEGIN:DAYLIGHT
TZOFFSETFROM:+0100
TZOFFSETTO:+0200
TZNAME:CEST
DTSTART:20250330T010000
END:DAYLIGHT
BEGIN:STANDARD
TZOFFSETFROM:+0200
TZOFFSETTO:+0100
TZNAME:CET
DTSTART:20251026T010000
END:STANDARD
END:VTIMEZONE
BEGIN:VEVENT
DTSTART;TZID=Europe/Berlin:20240127T160000
DTEND;TZID=Europe/Berlin:20240127T193000
DTSTAMP:20260423T133345
CREATED:20240119T092858Z
LAST-MODIFIED:20240119T132706Z
UID:10000410-1706371200-1706383800@kulturbunker-muelheim.de
SUMMARY:PÊŞANGEH GIRAV // Sinan Hezer
DESCRIPTION:Ausstellung // Sergi\n\n\n\n\n\n\n\n  \nDE: \nSinan Hezer studierte Innenarchitektur\, Malerei und bildende Kunst. Außerdem nahm er an zahlreichen Einzel- und Gruppenausstellungen teil. Seine Arbeiten reichen von der Innenarchitektur bis hin zu Designarbeiten. \nHezers Werke bilden diejenigen ab\, die in allen Bereichen des Lebens kämpfen. Hezer drückt damit aus\, dass der Kampf Stabilität erfordert und dass er auf vielfältige Art und Weise gehandhabt werden muss. Er drückt diesen Ansatz mit den symbolisierten Formen des Kampfes aus. Der Maler\, der in seinen Werken neben einer ironischen Lesart auch konkrete Überlegungen anstellt\, befasst sich in seinen Zeichnungen mit Frauen\, der Natur\, der Gesellschaft\, Communities und Völkern\, die migrieren mussten. In den von ihm geschaffenen Kompositionen legt er Wert darauf\, dass einige Gegenstände den ganzen Geist des Bildes widerspiegeln und dass sein Herz dort schlägt. \n  \nTR: \nSinan Hezer iç mimarlık ve resim eğitimi ve görsel sanatlar eğitimi aldı. Ayrıca birçok Kişisel ve karma sergiye de yer verdi. Çalışmaları iç mimarlıktan tasarım çalışmalarına kadar uzanıyor. \nHezer’in çalışmaları hayatın her alanında mücadele edenleri kapsıyor. Mücadelenin istikrar istediğini ve bunun da çok yönlü ele alınması gerektiğini ifade eden Hezer\, bu ele alışı mücadelenin simgeleşmiş formlarıyla dışa vuruyor. Çalışmalarında ironik bir okumanın dışında somut bir yansıma olan ressam\, çizimlerinde kadıları\, dogayi\, toplumu mekapları\, göç etmek zorunda kalan halkları ele alıyor. Oluşturduğu kompozisyonlarda bazı objelerin resmin tüm ruhunu yansıtmasına\, kalbinin orada atmasına önem veriyor. \n  \n\n\n\n  \nEintritt frei // giriş ücretsiz
URL:https://kulturbunker-muelheim.de/event/pesangeh-girav-sinan-hezer/
CATEGORIES:Kultur
ATTACH;FMTTYPE=image/png:https://kulturbunker-muelheim.de/wp-content/uploads/2024/01/Bildschirmfoto-2024-01-19-um-10.12.48.png
END:VEVENT
END:VCALENDAR