BEGIN:VCALENDAR
VERSION:2.0
PRODID:-//Kulturbunker Köln-Mülheim - ECPv6.15.20//NONSGML v1.0//EN
CALSCALE:GREGORIAN
METHOD:PUBLISH
X-WR-CALNAME:Kulturbunker Köln-Mülheim
X-ORIGINAL-URL:https://kulturbunker-muelheim.de
X-WR-CALDESC:Veranstaltungen für Kulturbunker Köln-Mülheim
REFRESH-INTERVAL;VALUE=DURATION:PT1H
X-Robots-Tag:noindex
X-PUBLISHED-TTL:PT1H
BEGIN:VTIMEZONE
TZID:Europe/Berlin
BEGIN:DAYLIGHT
TZOFFSETFROM:+0100
TZOFFSETTO:+0200
TZNAME:CEST
DTSTART:20230326T010000
END:DAYLIGHT
BEGIN:STANDARD
TZOFFSETFROM:+0200
TZOFFSETTO:+0100
TZNAME:CET
DTSTART:20231029T010000
END:STANDARD
BEGIN:DAYLIGHT
TZOFFSETFROM:+0100
TZOFFSETTO:+0200
TZNAME:CEST
DTSTART:20240331T010000
END:DAYLIGHT
BEGIN:STANDARD
TZOFFSETFROM:+0200
TZOFFSETTO:+0100
TZNAME:CET
DTSTART:20241027T010000
END:STANDARD
BEGIN:DAYLIGHT
TZOFFSETFROM:+0100
TZOFFSETTO:+0200
TZNAME:CEST
DTSTART:20250330T010000
END:DAYLIGHT
BEGIN:STANDARD
TZOFFSETFROM:+0200
TZOFFSETTO:+0100
TZNAME:CET
DTSTART:20251026T010000
END:STANDARD
END:VTIMEZONE
BEGIN:VEVENT
DTSTART;TZID=Europe/Berlin:20240130T180000
DTEND;TZID=Europe/Berlin:20240211T180000
DTSTAMP:20260423T133224
CREATED:20231211T162507Z
LAST-MODIFIED:20240105T162629Z
UID:10000187-1706637600-1707674400@kulturbunker-muelheim.de
SUMMARY:BERGISCHE KUNSTHOCHSCHULE // FACETTEN 2023
DESCRIPTION:Ausstellung\n  \n\n\n\n\n\n\n\n\nDie Bergische Kunstschule besteht seit 35 Jahren als studienvorbereitende\, studienbegleitende Abendschule für alle künstlerischen und gestalterischen Disziplinen. Aktuell dort arbeitende Student*innen und Schüler*innen\, sowie das Team\, zeigen in der Ausstellung Werke aus dem Jahr 2023. \nEin Querschnitt aus Skulptur\, Malerei\, Zeichnung\, Collage\, Foto\, Installation\, Digitale Werke. \nNamen aller Ausstellenden Claudia Schlimgen\, Vanessa Schmidtke\, Bettina Ballendat\, Philipp Baumann\, Suna Sarikaya\, Ben Wahle\, Nils Schneider\, Tabatha Pislaru\, Luca del Grosso\, Sigrun Katzemich\, Alina Lützenkirchen\, Marlene Linzenich\, Ellen Lodo\, Nergiz Yüsüak\, Polina Turbal\, Baldur Katzemich\, Viktoria Karlin\, Aleyna Ates\, Selin Aydugan\, Linda Smerda und weitere. \nEintritt frei \n  \n\n\n\n\n\n  \nVernissage: \nDi\, 30.01.24 // 18:00-21:00 Uhr \nÖffnungszeiten der Ausstellung: \nTäglich 15:00 – 20:30 Uhr \nFinissage: \nSo\, 11.02.24 // 12:00-18:00 Uhr
URL:https://kulturbunker-muelheim.de/event/bergische-kunsthochschule-facetten-2023/
CATEGORIES:Kultur
ATTACH;FMTTYPE=image/jpeg:https://kulturbunker-muelheim.de/wp-content/uploads/2023/12/Palakat-Bergische-Kunstschule-.jpg
END:VEVENT
BEGIN:VEVENT
DTSTART;TZID=Europe/Berlin:20240204T163000
DTEND;TZID=Europe/Berlin:20240204T200000
DTSTAMP:20260423T133224
CREATED:20240119T142501Z
LAST-MODIFIED:20240124T134259Z
UID:10000411-1707064200-1707076800@kulturbunker-muelheim.de
SUMMARY:Rutfront Sitzung 2024 - Die Rückkehr
DESCRIPTION:Karnevalssitzung\n\n\n\n\n\n\n\n\n\n\n\n\n\n\n\n\n\nDer Rutfront Fastelovendsbund e.V. lädt zur Sitzung ein und begibt sich inhaltlich auf eine Reise durch die eigene Vereins-Historie \n-mit kölsche Krätzjer von Madame Kurasch\, Thekenterzett\, Die Rheinische Sonne\, Comeback von Schwarzer Block Flötenchor und Feierabendchor\, Kostümwettbewerb\, Hallo und vielem mehr- \n  \n“WO SICH ALLE MENSCHEN GLEICH\, DA NUR IST DAS NARRENREICH.“ (Die Eisenritter / Franz Raveaux\, 1842) \nDer Rutfront Fastelovendsbund versteht sich als eine traditionelle Karnevalsgesellschaft\, die sich aktiv und gestalterisch in den brauchtümlichen Kölner Karneval einbringt und dazu beiträgt\, dass dieser seiner gesellschaftlichen und sozialen Verantwortung nachkommt. Die Mitglieder des Bundes begreifen es als eine wichtige Aufgabe\, den Karneval klar gegen faschistische\, rassistische\, sexistische\, antisemitische und andere menschenfeindliche\, diskriminierende und dem Geist des Karnevals entgegenstehende Einflüsse abzugrenzen. Es gibt Werte\, die uns im Karneval miteinander vereinen. Dazu zählen unsere Geschwisterlichkeit\, die vorbehaltlose Inklusion und unser solidarischer Zusammenhalt mit Menschen\, von denen wir einzig wissen\, dass sie diese Werte mit uns teilen. \n  \n\n  \nEinlass 16:00 Uhr \nTickets unter: https://t.rausgegangen.de/tickets/rutfront-sitzung-2024-die-ruckkehr (für Rabatt oder Solipreis bitte Mail an info@rutfront.koeln)
URL:https://kulturbunker-muelheim.de/event/rutfront-sitzung-2024/
CATEGORIES:Kultur
ATTACH;FMTTYPE=image/jpeg:https://kulturbunker-muelheim.de/wp-content/uploads/2024/01/Rutfront-II-scaled.jpg
END:VEVENT
END:VCALENDAR