BEGIN:VCALENDAR
VERSION:2.0
PRODID:-//Kulturbunker Köln-Mülheim - ECPv6.15.20//NONSGML v1.0//EN
CALSCALE:GREGORIAN
METHOD:PUBLISH
X-WR-CALNAME:Kulturbunker Köln-Mülheim
X-ORIGINAL-URL:https://kulturbunker-muelheim.de
X-WR-CALDESC:Veranstaltungen für Kulturbunker Köln-Mülheim
REFRESH-INTERVAL;VALUE=DURATION:PT1H
X-Robots-Tag:noindex
X-PUBLISHED-TTL:PT1H
BEGIN:VTIMEZONE
TZID:Europe/Berlin
BEGIN:DAYLIGHT
TZOFFSETFROM:+0100
TZOFFSETTO:+0200
TZNAME:CEST
DTSTART:20240331T010000
END:DAYLIGHT
BEGIN:STANDARD
TZOFFSETFROM:+0200
TZOFFSETTO:+0100
TZNAME:CET
DTSTART:20241027T010000
END:STANDARD
BEGIN:DAYLIGHT
TZOFFSETFROM:+0100
TZOFFSETTO:+0200
TZNAME:CEST
DTSTART:20250330T010000
END:DAYLIGHT
BEGIN:STANDARD
TZOFFSETFROM:+0200
TZOFFSETTO:+0100
TZNAME:CET
DTSTART:20251026T010000
END:STANDARD
BEGIN:DAYLIGHT
TZOFFSETFROM:+0100
TZOFFSETTO:+0200
TZNAME:CEST
DTSTART:20260329T010000
END:DAYLIGHT
BEGIN:STANDARD
TZOFFSETFROM:+0200
TZOFFSETTO:+0100
TZNAME:CET
DTSTART:20261025T010000
END:STANDARD
END:VTIMEZONE
BEGIN:VEVENT
DTSTART;TZID=Europe/Berlin:20250430T220000
DTEND;TZID=Europe/Berlin:20250501T050000
DTSTAMP:20260424T024402
CREATED:20250320T103628Z
LAST-MODIFIED:20250320T103628Z
UID:10000538-1746050400-1746075600@kulturbunker-muelheim.de
SUMMARY:YOUNG VETERAN SOUNDSYSTEM // TANZ IN DEN MAI
DESCRIPTION:Dubparty\n\n\n\n\n  \nDie Young Veterans haben zum gemeinsamen Tanz in den Mai eingeladen. Als Gast am Control Tower wurde eine weitere Legende aus England eingeladen: Iration Steppas Ein Muss für alle Dub- und Roots Reggae-Fans. Heavy bass\, heavy vibes. \n\n\n\n\n\n\n  \n\n\n\n\n\n\n\n  \nTickets (ab 22 €) unter vas-audio.ticket.io \nAK: 30 € \n  \n 
URL:https://kulturbunker-muelheim.de/event/young-veteran-soundsystem-tanz-in-den-mai/
CATEGORIES:Kultur
ATTACH;FMTTYPE=image/jpeg:https://kulturbunker-muelheim.de/wp-content/uploads/2025/03/IRATION-YV-WEBFLY-scaled.jpg
END:VEVENT
END:VCALENDAR