BEGIN:VCALENDAR
VERSION:2.0
PRODID:-//Kulturbunker Köln-Mülheim - ECPv6.15.20//NONSGML v1.0//EN
CALSCALE:GREGORIAN
METHOD:PUBLISH
X-WR-CALNAME:Kulturbunker Köln-Mülheim
X-ORIGINAL-URL:https://kulturbunker-muelheim.de
X-WR-CALDESC:Veranstaltungen für Kulturbunker Köln-Mülheim
REFRESH-INTERVAL;VALUE=DURATION:PT1H
X-Robots-Tag:noindex
X-PUBLISHED-TTL:PT1H
BEGIN:VTIMEZONE
TZID:Europe/Berlin
BEGIN:DAYLIGHT
TZOFFSETFROM:+0100
TZOFFSETTO:+0200
TZNAME:CEST
DTSTART:20250330T010000
END:DAYLIGHT
BEGIN:STANDARD
TZOFFSETFROM:+0200
TZOFFSETTO:+0100
TZNAME:CET
DTSTART:20251026T010000
END:STANDARD
BEGIN:DAYLIGHT
TZOFFSETFROM:+0100
TZOFFSETTO:+0200
TZNAME:CEST
DTSTART:20260329T010000
END:DAYLIGHT
BEGIN:STANDARD
TZOFFSETFROM:+0200
TZOFFSETTO:+0100
TZNAME:CET
DTSTART:20261025T010000
END:STANDARD
BEGIN:DAYLIGHT
TZOFFSETFROM:+0100
TZOFFSETTO:+0200
TZNAME:CEST
DTSTART:20270328T010000
END:DAYLIGHT
BEGIN:STANDARD
TZOFFSETFROM:+0200
TZOFFSETTO:+0100
TZNAME:CET
DTSTART:20271031T010000
END:STANDARD
END:VTIMEZONE
BEGIN:VEVENT
DTSTART;TZID=Europe/Berlin:20260331T200000
DTEND;TZID=Europe/Berlin:20260331T223000
DTSTAMP:20260420T221429
CREATED:20260211T114733Z
LAST-MODIFIED:20260309T095201Z
UID:10000688-1774987200-1774996200@kulturbunker-muelheim.de
SUMMARY:+++ VERANSTALTUNG ABGESAGT +++ Coşkun Karademir // KONZERT
DESCRIPTION:“Echoes of Anatolia”\n+++ Die Veranstlatung wurde abgesagt +++ \nEin zeitgenössischer Ozan\, eine Kopuz und eine tausend Jahre alte Geschichte der türkischen Volksmusik. \nDer international ausgezeichnete Musiker Coşkun Karademir begegnet dem Publikum in ganz Europa mit den fesselnden Klängen der Kopuz und der Bağlama. Auf dieser intimen Solotour verbindet er jahrhundertealte anatolische Volksmelodien mit eigenen instrumentalen Kompositionen und erschafft eine persönliche musikalische Reise\, die sich frei zwischen Tradition und Gegenwart bewegt. \nKarademir blickt nicht zurück in die Vergangenheit\, sondern bringt ihr Wesen ins Heute. Sein Spiel übersetzt Jahrhunderte anatolischer Kultur in eine klare und zeitgemäße Form\, in der jede Melodie direkt und ohne Nostalgie spricht. \nEchoes of Anatolia lädt Musikliebhaber in Europa in das lebendige Herz Anatoliens ein. Mehr als ein Konzert. Eine gemeinsame Reise\, geformt von Erinnerung\, Klang und Geist. Ein Erlebnis\, das sich in der Zeit entfaltet und lange nach dem letzten Ton nachklingt. \n// türkisch \nUluslararası ödüllü müzisyen Coşkun Karademir\, kopuz ve bağlamasının büyülü tınılarıyla Avrupa’nın çeşitli şehirlerinde dinleyicileriyle buluşuyor. Bu özel solo turnede Karademir\, Anadolu’nun kadim türkülerini ve kendi enstrümantal bestelerini seslendirerek dinleyicileri zamanın ötesinde bir müzikal yolculuğa çıkaracak. \nOnun müziğinde\, Anadolu’nun binlerce yıllık kültürel mirası modern ve zarif bir dokunuşla canlanıyor. Her bir nota\, hem geçmişe bir saygı duruşu hem de bugünün\ndinleyicisine dokunan evrensel bir dil sunuyor. \nBu eşsiz konser serisi\, Avrupa’nın müzikseverlerini Anadolu’nun kalbine davet ediyor. Coşkun Karademir’in bu özel performansını kaçırmayın; tarihle\, müzikle ve ruhla örülmüş bu yolculukta siz de yerinizi alın. \n  \n\n\n\n\n\n\n\n\n\n\n\n  \n\n\n\n\n  \nEintritt: 25 € \n 
URL:https://kulturbunker-muelheim.de/event/coskun-karademir-konzert/
CATEGORIES:Kultur
ATTACH;FMTTYPE=image/png:https://kulturbunker-muelheim.de/wp-content/uploads/2026/02/CK-Artist-Photo-landscape.png
END:VEVENT
END:VCALENDAR