BEGIN:VCALENDAR
VERSION:2.0
PRODID:-//Kulturbunker Köln-Mülheim - ECPv6.15.20//NONSGML v1.0//EN
CALSCALE:GREGORIAN
METHOD:PUBLISH
X-ORIGINAL-URL:https://kulturbunker-muelheim.de
X-WR-CALDESC:Veranstaltungen für Kulturbunker Köln-Mülheim
REFRESH-INTERVAL;VALUE=DURATION:PT1H
X-Robots-Tag:noindex
X-PUBLISHED-TTL:PT1H
BEGIN:VTIMEZONE
TZID:Europe/Berlin
BEGIN:DAYLIGHT
TZOFFSETFROM:+0100
TZOFFSETTO:+0200
TZNAME:CEST
DTSTART:20250330T010000
END:DAYLIGHT
BEGIN:STANDARD
TZOFFSETFROM:+0200
TZOFFSETTO:+0100
TZNAME:CET
DTSTART:20251026T010000
END:STANDARD
BEGIN:DAYLIGHT
TZOFFSETFROM:+0100
TZOFFSETTO:+0200
TZNAME:CEST
DTSTART:20260329T010000
END:DAYLIGHT
BEGIN:STANDARD
TZOFFSETFROM:+0200
TZOFFSETTO:+0100
TZNAME:CET
DTSTART:20261025T010000
END:STANDARD
BEGIN:DAYLIGHT
TZOFFSETFROM:+0100
TZOFFSETTO:+0200
TZNAME:CEST
DTSTART:20270328T010000
END:DAYLIGHT
BEGIN:STANDARD
TZOFFSETFROM:+0200
TZOFFSETTO:+0100
TZNAME:CET
DTSTART:20271031T010000
END:STANDARD
END:VTIMEZONE
BEGIN:VEVENT
DTSTART;TZID=Europe/Berlin:20260509T100000
DTEND;TZID=Europe/Berlin:20260510T150000
DTSTAMP:20260421T130401
CREATED:20260417T084539Z
LAST-MODIFIED:20260417T084539Z
UID:10000698-1778320800-1778425200@kulturbunker-muelheim.de
SUMMARY:Coloniacon // CONVENTION
DESCRIPTION:Der ColoniaCon ist das traditionsreiche Treffen der Science-Fiction- und Phantastik-Community nicht nur aus Köln und Umgebung. \nHier treffen sich Fans\, Autoren\, Zeichner und Verlage\, um gemeinsam die gesamte Bandbreite des Genres zu feiern: Von klassischen Romanen über aktuelle Neuerscheinungen bis hin zu beeindruckender Kunst aus der Welt der Phantastik und Science-Fiction\, spannende Lesungen\, Diskussionsrunden\, Workshops und andere Programmpunkte mit bekannten und neuen Autoren. \nDie Coloniacon bietet eine Autorenrunde der Erstauflage der Perry Rhodan Serie mit Gespräch des Chefautors und Einblicke\, wie es bei der Spinoff-serie Perry Rhodan NEOweiter weitergeht. Es gibt einen Vortrag über Jules Verne und die Entdeckung der Meeresforschung sowie eine Gesprächsrunde über die Heftserie Maddrax und eine Gesprächsrunde über Cons früher und heute. \nDie Besucher*innen erwarten Einblicke in die Arbeit talentierter Zeichner und Illustratoren und natürlich alles rund um die Heftserie Perry Rhodan\, die seit 1961 wöchentlich einen Roman veröffentlicht. \nBuchstände mit einem breiten Angebot aus Science-Fiction und Fantasy laden zum Stöbern ein. Dazu gibt es jede Menge Gelegenheiten mit Gleichgesinnten ins Gespräch zu kommen und Teil einer lebendigen Community zu sein. \nEin ganz besonderes Highlight ist die Austragung der 9. Offenen Deutschen Meisterschaft des Perry Rhodan Sammelkartenspiels! \n  \n\n\n  \nSamstag\, 09.05. // 10.00 Uhr – 22.00 Uhr (Einlass 9:00 Uhr)\nSonntag\, 10.05. // 10:00 Uhr – 15.00 Uhr \nTickets\, sowie das vollständige Programm unter: www.coloniacon-tng.de/2026
URL:https://kulturbunker-muelheim.de/event/coloniacon-convention/
CATEGORIES:Kultur
ATTACH;FMTTYPE=image/jpeg:https://kulturbunker-muelheim.de/wp-content/uploads/2026/04/Colonia-Con-scaled.jpeg
END:VEVENT
END:VCALENDAR