BEGIN:VCALENDAR
VERSION:2.0
PRODID:-//Kulturbunker Köln-Mülheim - ECPv6.15.20//NONSGML v1.0//EN
CALSCALE:GREGORIAN
METHOD:PUBLISH
X-WR-CALNAME:Kulturbunker Köln-Mülheim
X-ORIGINAL-URL:https://kulturbunker-muelheim.de
X-WR-CALDESC:Veranstaltungen für Kulturbunker Köln-Mülheim
REFRESH-INTERVAL;VALUE=DURATION:PT1H
X-Robots-Tag:noindex
X-PUBLISHED-TTL:PT1H
BEGIN:VTIMEZONE
TZID:Europe/Berlin
BEGIN:DAYLIGHT
TZOFFSETFROM:+0100
TZOFFSETTO:+0200
TZNAME:CEST
DTSTART:20230326T010000
END:DAYLIGHT
BEGIN:STANDARD
TZOFFSETFROM:+0200
TZOFFSETTO:+0100
TZNAME:CET
DTSTART:20231029T010000
END:STANDARD
BEGIN:DAYLIGHT
TZOFFSETFROM:+0100
TZOFFSETTO:+0200
TZNAME:CEST
DTSTART:20240331T010000
END:DAYLIGHT
BEGIN:STANDARD
TZOFFSETFROM:+0200
TZOFFSETTO:+0100
TZNAME:CET
DTSTART:20241027T010000
END:STANDARD
BEGIN:DAYLIGHT
TZOFFSETFROM:+0100
TZOFFSETTO:+0200
TZNAME:CEST
DTSTART:20250330T010000
END:DAYLIGHT
BEGIN:STANDARD
TZOFFSETFROM:+0200
TZOFFSETTO:+0100
TZNAME:CET
DTSTART:20251026T010000
END:STANDARD
END:VTIMEZONE
BEGIN:VEVENT
DTSTART;TZID=Europe/Berlin:20240601T120000
DTEND;TZID=Europe/Berlin:20240601T220000
DTSTAMP:20260421T113633
CREATED:20240510T110021Z
LAST-MODIFIED:20240531T122254Z
UID:10000208-1717243200-1717279200@kulturbunker-muelheim.de
SUMMARY:YAYA KOLLEKTIV// ECLECTIC CHIC DAY- A FLEA MARKET BEYOND THE ORDINARY
DESCRIPTION:Flohmarkt  \n\n\n  \nAm 01.06. verwandelt das Yaya Kollektiv den Kulturbunker in einen Ort für neues und altes\, Inspiration und Austausch. Neben Second Hand Fashion\, ausgewählten Vintage Schätzen und Accessoires\, wird auch selbstgemachtes angeboten. Zudem gibt es einen Tattoo Walk in\, Tooth Gems\, Afro Hair Treatments und Nail Art. Der Flohmarkt bietet Fashion für Dicke\, Kleine\, Große\, Trans und Genderbound Körper und Adaptive Wear. Vor Ort wird es auch die Möglichkeit geben\, sich Kleidung von einer Maßschneider*in anpassen zu lassen. \n  \n\n  \nEintritt: 3 Euro \nWeitere Informationen zur Standanmietung unter: https://linktr.ee/yayacrewlove \n 
URL:https://kulturbunker-muelheim.de/event/a-flea-market-beyond-the-ordinary/
CATEGORIES:Kultur
ATTACH;FMTTYPE=image/jpeg:https://kulturbunker-muelheim.de/wp-content/uploads/2024/05/IMG_7337.jpg
END:VEVENT
BEGIN:VEVENT
DTSTART;TZID=Europe/Berlin:20240601T200000
DTEND;TZID=Europe/Berlin:20240601T220000
DTSTAMP:20260421T113633
CREATED:20240522T110617Z
LAST-MODIFIED:20240522T111931Z
UID:10000214-1717272000-1717279200@kulturbunker-muelheim.de
SUMMARY:CONTAINERKLANG #22
DESCRIPTION:Konzert-Performances und Installationen\n  \n\n\n\n\nEin Projekt der Kölner Gesellschaft für Neue Musik e.V. \nMit Nachwuchsmusiker*innen der Freien Szene in Köln & NRW \n  \nAufführung von Konzert-Performances und Installationen \nam 1. Juni ab 20 Uhr in der Gallerie des Kulturbunkers Köln-Mülheim \n  \nSeit 2014 ist die Reihe CONTAINERKLANG ein fester Bestandteil der Kölner Neue Musik Szene. Hier werden Talente gefördert und Experimente befürwortet. Dafür wird  im Jahr 2024 besonders dem Neue Musik Nachwuchs aus der Kölner Umgebung die Tür geöffnet. Über einen OPEN CALL ermittelte der kgnm Vorstand Teilhabende für ein offenes Veranstaltungsformat in der Gallerie des Kulturbunkers. In intensiver Beschäftigung in diesem besonderen Ort soll die Neue Musik mit visuellen und performativen Ideen umspielt werden. Existierende Musik des 21. Jahrhunderts\, Neu-Kompositionen\, Konzept-Improvisationen und audiovisuelle Installationen werden von 8 Künstler*innen im Raum zusammengeführt. \n  \nDie Küstler*innen: \nJuri Lechthoff \nTheresia Kammann & Vera Seedorf \nMaria Camila Agudelo & Natalia Molina \nCamilla Angolini\, Ahmetcan Gökçeer & Christian James Sharpe \n  \nDas Kuratorium: \nJón Ralfsson \nPablo Garretón \nRie Watanabe \nAngelika Sheridan \nVerena Barié \n————————— \nFotocredit Theresia Kammann & Vera Seedorf \n  \n\n\n\n\n\n  \n\nWeitere Infos unter: https://kgnm.culturebase.org/?p=1
URL:https://kulturbunker-muelheim.de/event/containerklang-22/
CATEGORIES:Kultur
ATTACH;FMTTYPE=image/jpeg:https://kulturbunker-muelheim.de/wp-content/uploads/2024/05/IMG_2929-scaled.jpeg
END:VEVENT
BEGIN:VEVENT
DTSTART;TZID=Europe/Berlin:20240606T160000
DTEND;TZID=Europe/Berlin:20240608T170000
DTSTAMP:20260421T113633
CREATED:20240508T085045Z
LAST-MODIFIED:20240508T090226Z
UID:10000438-1717689600-1717866000@kulturbunker-muelheim.de
SUMMARY:DIE JUNGE WOHNGEMEINSCHAFT E.V. – AUS DEM SCHATTEN INS LICHT
DESCRIPTION:AUSSTELLUNG // EINE KÜNSTLERISCHE ANNÄHERUNG VON JUGENDLICHEN AN DIE FAMILIE\n  \n\n\nAm Donnerstag\, den 6. Juni 2024\, eröffnet der Verein Die junge Wohngemeinschaft die erste Ausstellung des Projektes – Aus dem Schatten ins Licht – eine künstlerische Annäherung von Jugendlichen an die Familie. \nIn den vergangenen Monaten haben Jugendliche aus der Wohngruppe Sürther Feld\, der Diakonie Michaelshoven und der Tagesstrukturierenden Maßnahme TAM der KüpperStiftung Videos gedreht\, Audios produziert und Fotos erstellt – die im Rahmen der Ausstellung präsentieren werden. \nIn der Video-Audio-Foto-Ausstellung erzählen Jugendliche\, die in Wohngruppen leben\, welche Themen sie beschäftigen. Für viele ist die Wohngruppe eine Art Ersatzfamilie\, wo sie Unterstützung\, auch bei sensiblen Themen\, erhalten. Gleichzeitig werden Sie oft mit Vorurteilen außerhalb ihrer Wohngruppen konfrontiert. \nWährend der Ausstellung findet zudem ein Rahmenprogramm\, in Form von Führungen und Expert*innengesprächen statt. \nMit der Ausstellung und dem Rahmenprogramm möchte der Verein dazu beitragen\, Vorurteile gegenüber Wohngruppen auszuräumen. \n  \n\n  \nEintritt frei // keine Anmeldung nötig \n  \nDo.\, 06.06.2024 // 16:00-20:00 h (Vernissage): \n\n\n\n\n16.00 h: Ankommen und Begrüßung // \n\n\n\n\n17.00 h: Gesprächsrunde „Die Wohngruppe als Ersatzfamilie“ u.a. mit Jugendlichen aus dem Projekt – Lisa Glahn (Künstlerische Leiterin)\, Emma Hoppe (Projektassistenz)\, Lutz Fischer (Bereichsleiter in der Karl Immanuel Küpper-Stiftung)\, Prof. Dr. Susanne Hilger (Geschäftsführende Vorständin der RheinEnergie Stiftungen)\, Moderation: Anke Bruns & Marie Stermann (Die jungen Wohngemeinschaften) \n\n\n\n\nAnschließend: Imbiss und Getränke  \n  \n\n\n\n\n\n\n\n\n\n\n\n\nFr.\, 07.06.2024 // 16:00-21:00 h: \n\n\n\n\n16.00 h: Öffnung der Ausstellung \n18.00 h: Filmvorführung und Gespräch „Wir sind doch keine Heimkinder“ – Eine Dokumentation (50 Min.) über das Leben im Heim damals und heute. \n19.00 h: Gespräch zum Film \nMitwirkende des Films\, Mitglieder vom Verein „Die jungen Wohngemeinschaften“ und weitere Gäste des Abends sprechen darüber\, weshalb Kinder und Jugendliche in der stationären Jugendhilfe seit Jahrzehnten mit hartnäckigen Vorurteilen konfrontiert werden und wie es möglich ist\, diese auszuräumen. \n  \n\n\n\n\nSa.\, 08. 06. 2024 // 13:00-17:00 h: \n\n\n\n\n13.00 h: Öffnung der Ausstellung \n15.00 h: Lesung und Gespräch mit der Schriftstellerin Mirjam Günter – Die Kölner Schriftstellerin\, die selbst im Kinderheim gewesen ist\, hat mehrere Romane geschrieben u.a. einen mit dem Titel „Heim“. Seit vielen Jahren öffnet sie u.a. Jugendlichen aus Wohngruppen in ihren Schreibwerkstätten Türen in die Welt der Literatur. \n\n\n\n\n\n\n\n\nModeration: Anke Bruns (Die jungen Wohngemeinschaften) \nAnschließend gibt es Kaffee und Kuchen
URL:https://kulturbunker-muelheim.de/event/die-junge-wohngemeinschaft-e-v-aus-dem-schatten-ins-licht/
CATEGORIES:Kultur
ATTACH;FMTTYPE=image/jpeg:https://kulturbunker-muelheim.de/wp-content/uploads/2024/05/Kuepperstiftung-155-von-168-2048x1453-1.jpg
END:VEVENT
BEGIN:VEVENT
DTSTART;TZID=Europe/Berlin:20240608T190000
DTEND;TZID=Europe/Berlin:20240608T210000
DTSTAMP:20260421T113633
CREATED:20240508T094907Z
LAST-MODIFIED:20240514T101636Z
UID:10000440-1717873200-1717880400@kulturbunker-muelheim.de
SUMMARY:SCHU FI MA FI KOLLEKTIV // BISHER NAJJAR- SAFARJAL
DESCRIPTION:Stand Up Comedy\nauf arabisch \n  \n\n\n\n\nBisher Najjar versucht in seiner Vorführung Safarjal (deutsch: die Quitte)\, die Gefühle der Geflüchteten nachzuempfinden\, indem er durch narrative Erzählungen persönliche Ereignisse und Erinnerungen aus Syrien und den damit verbundenen Erlebnissen nach der Auswanderung und dem Leben in Frankreich für 12 Jahre reflektiert. \nDabei stützt er sich auf Forschungsarbeiten\, die die Emotionen von Geflüchteten und Vertriebenen untersucht haben. \nDie Vorführung vereint Comedy\, schwarzen Humor\, Informationen und Dramatik\, um die gemeinsamen Gefühle von Geflüchteten\, nachzuzeichnen. \nDie Show wird von einer einstündigen Interaktion mit dem Publikum in Form von Fragen und Antworten begleitet. \nDie Vorstellung vermittelt keine politischen oder religiösen Botschaften; ihr Ziel ist es\, das Bewusstsein zu fördern\, zum Lachen zu bringen und Erlebnisse zu teilen. \n  \n\n\n\n\n\n  \n\nTicket VVK (20\,00€) unter: https://schufimafi.ticket.io/kq10lr3c/
URL:https://kulturbunker-muelheim.de/event/schufi-mafi-kollektiv/
CATEGORIES:Kultur
ATTACH;FMTTYPE=image/jpeg:https://kulturbunker-muelheim.de/wp-content/uploads/2024/05/Safarjal-square-without-text.jpg
END:VEVENT
BEGIN:VEVENT
DTSTART;TZID=Europe/Berlin:20240613T180000
DTEND;TZID=Europe/Berlin:20240613T200000
DTSTAMP:20260421T113633
CREATED:20240510T111840Z
LAST-MODIFIED:20240510T111840Z
UID:10000210-1718301600-1718308800@kulturbunker-muelheim.de
SUMMARY:LORENZ ROMMELSPACHER // S_4_F - FIELD RECORDING
DESCRIPTION:Interdisziplinäres Konzert\n  \n\n\n\n\nField Recording ist ein Prozess\, der einlädt – zum Verweilen und dazu\, die Sinne auf Dinge zu schärfen – Klänge\, Szenen\, Gerüche… – die die meisten von uns im alltäglichen Leben höchstens unterbewusst wahrnehmen. Diese Fokussierung der eigenen Aufmerksamkeit auf die “Zwischentöne”\, auf das\, was hinter dem von uns Kontrollierbaren liegt\, ist spätestens seit John Cages 4’33” oder Pauline Oliveros‘ Deep Listening im Kulturbetrieb angekommen. Field Recording (sowohl Ton als auch Bild) bezeichnet\, aus technischer Perspektive\, die Praxis\, Umgebungsgeräusche und/oder visuelleEindrücke in natürlichen und urbanen Umgebungen einzufangen. Auf diesem Prinzip beruht S_4_F. Alle Klänge und Bilder entstammen Umgebungsaufnahmen\, die teils unbearbeitet\, teils bis zur Unkenntlichkeit verfremdet in dem Stück verarbeitet werden. \nDie Besucher*innen sind dazu eingeladen\, genau hinzuhören und hinzusehen und sich zusammen mit dem Performer auf eine musikalisch-bildliche Entdeckungsreise zu begeben. \n  \n\n\n\n\n\n  \n\nEintritt frei // Keine Anmeldung oder Reservierung notwendig
URL:https://kulturbunker-muelheim.de/event/s_4_f-field-recording/
CATEGORIES:Kultur
ATTACH;FMTTYPE=image/png:https://kulturbunker-muelheim.de/wp-content/uploads/2024/05/rommelspacher.png
END:VEVENT
BEGIN:VEVENT
DTSTART;TZID=Europe/Berlin:20240614T170000
DTEND;TZID=Europe/Berlin:20240616T180000
DTSTAMP:20260421T113633
CREATED:20240529T092123Z
LAST-MODIFIED:20240618T084026Z
UID:10000217-1718384400-1718560800@kulturbunker-muelheim.de
SUMMARY:Ausstellung // Pêşangeh - Exhibition
DESCRIPTION:Ausstellung AMARA\n\n\n\n\n  \nDE: \nSiebzehn Maler und Bildhauer haben die letzten Vorbereitungen für unsere Amara-Ausstellung abgeschlossen. Unsere Reise nach Amara hat begonnen. Diese Reise wird mit unseren Pinseln\, Skulpturen und all unseren künstlerischen Methoden weitergehen. Amara ist für uns kein Traum\, es ist unser Fokus\, unsere Quelle und unsere Wahrheit… Und eine Quelle\, in der alle Völker ihre Darstellung finden… \nKurator /Maler : Sinan Hezer \n———————- \nTR: \nOn yedi ressam ve heykeltraş sanatçının dahil olduğu Amara sergimizin son hazırlıkları tamamlandı.. Amara yolculuğumuz başladı. Bu yol \,fırçalarımız\, heykellerimiz ve tüm sanatsal yöntemlerimiz le devam edecek. Amara bizlerin için bir düş değil\, odağımız\, kaynağımız ve hakikatimizdir…Ve tüm halkların temsilini bulduğu bir kaynak… \nKreatör-Ressam \n  \n\n\n\n\n\n\n\n\n  \n\nKünstler*innen // Hunermend: \nSinan Hezer\, Aslı Filiz\, Sarya Nurcan Kaya\, Amele\, Hogir Ar\, Ribwar Parwizi\, Gulan Kılıçoğlu\, Hamit Aydın\, Serdar Mutlu\, \nGulistan Güntekin\, Murad İpek\, Ilos Ilyas Elias Kırkan\, Besna Acu\, Berivan İbin\, Ayten Kaplan\, Ercan Altuntaş \n\n  \nEröffnungsmusik: \nAlan Arif und Natalia Schmid \n  \n\n\n\n\n\n\n\n  \n\n\n\n\nVernissage: 14. Juni // 14. haziran 2024\, 17.00 h \nÖffnungszeiten // giriş saatleri (15. – 16. Juni // 15. – 16. haziran) : 13.00 – 18.00 h  \n  \nEintritt frei // giriş ücretsiz \n\n\n\n\n 
URL:https://kulturbunker-muelheim.de/event/pesangeh-exhibition/
CATEGORIES:Kultur
ATTACH;FMTTYPE=image/jpeg:https://kulturbunker-muelheim.de/wp-content/uploads/2024/05/ins1.jpg
END:VEVENT
BEGIN:VEVENT
DTSTART;TZID=Europe/Berlin:20240615T193000
DTEND;TZID=Europe/Berlin:20240615T213000
DTSTAMP:20260421T113633
CREATED:20240508T144558Z
LAST-MODIFIED:20240508T144558Z
UID:10000439-1718479800-1718487000@kulturbunker-muelheim.de
SUMMARY:SOMMERKONZERTE IM BIERGARTEN 2024 // GÜLDESTE
DESCRIPTION:Open-Air Konzert\n  \n\n\nNach vielen Musikprojekte startet die Wahlkölnerin Güldeste ihr erstes Solo-Projekt. Die ausgebildete Violinistin\, Sängerin und Komponistin vereint ihre klassische Ausbildung und musikalischen Werdegang mit ihren türkisch-mediterranen Wurzeln\, der anatolischen Melancholie\, ihren vielen Reisen\, ihrer Begeisterung für elektronische Musik und psychedelischen Einflüssen. \nGüldeste kreiert daraus einen ergreifenden und mitreisenden „Crossover ElektroPop“ mit Clubcredibility und Festivalcharakter. Ihr Wunsch nach (mehrsprachigem) Spoken-Word findet hier genauso Platz wie ihr Hang zu epischen Melodien\, getragen von ihrem einzigartigen Violinenstil und Bratschespiel\, mit unverkennbaren westasiatischen und indischen Einflüssen- alles serviert auf markanten Basslinien. \nEin Konzert voller Momente träumerischen Gesangs und Violine\, voller Hoffnung und Bewegung und lustiger\, wärmender Augenblicke. \n  \n\n  \nEintritt frei // gegen Hut – Keine Reservierung oder Anmeldung notwendig \nIm Biergarten des Toré
URL:https://kulturbunker-muelheim.de/event/sommerkonzerte-im-biergarten-2024-gueldeste/
CATEGORIES:Kultur
ATTACH;FMTTYPE=image/jpeg:https://kulturbunker-muelheim.de/wp-content/uploads/2024/05/gueldeste-by-Arthur-Bauer-scaled.jpg
END:VEVENT
BEGIN:VEVENT
DTSTART;TZID=Europe/Berlin:20240621T180000
DTEND;TZID=Europe/Berlin:20240621T200000
DTSTAMP:20260421T113633
CREATED:20240522T131439Z
LAST-MODIFIED:20240522T131439Z
UID:10000215-1718992800-1719000000@kulturbunker-muelheim.de
SUMMARY:Ehrung und Gedenkfeier für Harald Müller & M.I.X. 25th Anniversary
DESCRIPTION:M.I.X. war das Lebenswerk von Harald Müller (Gründer und Initiator). Der Fokus liegt darin\,  Kinder und Jugendliche aus Mülheim\, die sonst nicht unterstützt wurden\, sichtbar zu machen. Sie haben durch M.I.X die Chance bekommen\, ihre Talente zu entdecken und zu entwickeln. Dadurch haben sie sich für Verständigung und Frieden eingesetzt. \nM.I.X. steht für Music International Against Xenophobia-Musik und  ist ein künstlerisch-musikalisches Projekt und Initiative\, die Harald Müller vor über 25 Jahre in Köln-Mülheim ins Leben gerufen hat. Das Projekt unterstützt Schüler*innen aus verschiedenen Ländern und Kulturen dabei\, gemeinsam Musik zu machen\, und setzt damit ein Zeichen gegen Fremdenfeindlichkeit. \nHaralds stetige Arbeit in all den Jahren führte dazu\, dass M.I.X nicht nur in Mülheim und der Stadt Köln\, sondern auch international Anerkennung fand\, weshalb das Projekt vielfach ausgezeichnet wurde. \n  \nVor drei Jahren bereits fasste Harald Müller den Plan\, die geleistete Projektarbeit mit M.I.X sowie den alten Weggefährt*innen\, Künstler*innen\, Institutionen und Förderern zu feiern. Zur Gestaltung einer Veranstaltung war M.I.X. bereits mit der Erstellung von umfangreichem Videomaterial und Musikaufnahmen befasst. Geplant war eine Veranstaltung mit dem Ziel\, die über 25-jährige Projektarbeit von M.I.X. zu präsentieren und mit allen Beteiligten\, Förderern und Freund*innen zu feiern. \n  \nDie für den 21.06.2024  geplante Veranstaltung in Kultur Bunker Köln-Mülheim ist in erster Linie eine Gelegenheit\, Haralds wertvolle Arbeit mit M.I.X  zu würdigen und die Geschichte des Projekts zu zeigen. Es geht auch darum\, dass allen beteiligten M.I.X  Jugendlichen und für alle\, die mit M.I.X zusammengearbeitet und unterstützt haben die Gelegenheit zu bieten\, M.I.X. gemeinsam abzuschließen und von Harald Abschied zu nehmen. \n  \nIndira Alvarez \nDorien Thomsen \nThorsten Kellermann \nBaba Omar \nAchim Schütze \n\n\n\n\n  \n\n\n\n\n\n  \n\nEintritt frei
URL:https://kulturbunker-muelheim.de/event/ehrung-und-gedenkfeier-fuer-harald-mueller-m-i-x-25th-anniversary/
CATEGORIES:Kultur
ATTACH;FMTTYPE=image/jpeg:https://kulturbunker-muelheim.de/wp-content/uploads/2024/05/Gedenkfeier-Harald-Mueller-Kulturbunker-21.6.24.jpg
END:VEVENT
BEGIN:VEVENT
DTSTART;TZID=Europe/Berlin:20240622T193000
DTEND;TZID=Europe/Berlin:20240622T213000
DTSTAMP:20260421T113633
CREATED:20240510T112707Z
LAST-MODIFIED:20240510T112707Z
UID:10000212-1719084600-1719091800@kulturbunker-muelheim.de
SUMMARY:SOMMERKONZERTE IM BIERGARTEN 2024 // DUO AL-PARI
DESCRIPTION:Open-Air Konzert\n  \n\n\n\n\nAm 22.06. heißt es hinaus in die lebhafte Welt des Latin Jazz mit dem dynamischen Duo Al-Pari. Mit hypnotisierenden Gitarrenmelodien und – harmonien\, sowie lebhaften Schlagzeugrhythmen verschmelzen sie Jazz\, Latin und Bossa Nova zu einem elektrisierenden Musikerlebnis. Von den sinnlichen Klängen des Bossa Nova bis zur feurigen Energie des Latin und Jazz liefert dieses Duo Auftritte voller Leidenschaft und Groove\, die garantiert alle Arten von Publikum begeistern. \n  \n\n\n\n\n\n  \n\nEintritt frei // gegen Hut Keine Reservierung oder Anmeldung notwendig \nIm Biergarten des Toré
URL:https://kulturbunker-muelheim.de/event/sommerkonzerte-im-biergarten-2024-duo-al-pari/
CATEGORIES:Kultur
ATTACH;FMTTYPE=image/png:https://kulturbunker-muelheim.de/wp-content/uploads/2024/05/fb-post.png
END:VEVENT
BEGIN:VEVENT
DTSTART;TZID=Europe/Berlin:20240628T193000
DTEND;TZID=Europe/Berlin:20240628T213000
DTSTAMP:20260421T113633
CREATED:20240510T113026Z
LAST-MODIFIED:20240510T113026Z
UID:10000213-1719603000-1719610200@kulturbunker-muelheim.de
SUMMARY:SOMMERKONZERTE IM BIERGARTEN 2024 // THE REVENANT TANNER
DESCRIPTION:Open-Air Konzert\n  \n\n\n\n\nRevenant Tanner – die Band aus dem Kölner Norden hat sich bis heute nicht endgültig festlegen können\, welcher Stilrichtung ihre Musik zuzuordnen ist. Zwischen Folk und Bluegrass mischen sich immer wieder Töne aus Country\, Soul und Pop und sorgen für ein besonderes Sounderlebnis. Die fünf Musiker*innen ziehen ihre Zuhörer*innen mit in ihre Musik und bringen sie (nicht zwingend in dieser Reihenfolge) zum Mitschwelgen\, Mittanzen\, Mitwippen\, Mitklatschen und Mitsingen. Egal ob auf der Bühne\, auf der Straße oder im Probenraum- Revenant Tanner hat gute Laune im Gepäck\, der man sich nicht entziehen kann. \n  \n\n\n\n\n\n  \n\nEintritt frei // gegen Hut Keine Reservierung oder Anmeldung notwendig \nIm Biergarten des Toré
URL:https://kulturbunker-muelheim.de/event/sommerkonzerte-im-biergarten-2024-the-revenant-tanner/
CATEGORIES:Kultur
ATTACH;FMTTYPE=image/jpeg:https://kulturbunker-muelheim.de/wp-content/uploads/2024/05/Revenant-Tanner-SW-03-2024-scaled.jpg
END:VEVENT
BEGIN:VEVENT
DTSTART;TZID=Europe/Berlin:20240629T193000
DTEND;TZID=Europe/Berlin:20240629T213000
DTSTAMP:20260421T113633
CREATED:20240619T112729Z
LAST-MODIFIED:20240619T114014Z
UID:10000446-1719689400-1719696600@kulturbunker-muelheim.de
SUMMARY:SOMMERKONZERTE IM BIERGARTEN 2024 // IRMAK KARACA & CENGIZ YAZGI
DESCRIPTION:Open-Air Konzert \n\n\n\n\n  \nCengiz Yazgı & Irmak Karaca sind gute Freunde\, das hört man ihrer Musik an. Yazgı mischt die musikalischen Traditionen seiner kurdischen Heimat mit Elementen aus Pop und Bluesrock. Karaca begleitet ihn virtuos auf der Akustikgitarre und singt eigene Songs aus verschiedenen Genres. \n\n\n  \n\n\n\n\n  \nEintritt frei // gegen Hut @Toré \nDas gesamte Programm der Sommerkonzerte 2024 unter: https://kulturbunker-muelheim.de/sommerkonzerte-2024/ \n 
URL:https://kulturbunker-muelheim.de/event/sommerkonzerte-im-biergarten-2024-irmak-karaca-cengiz-yazgi/
CATEGORIES:Kultur
ATTACH;FMTTYPE=image/png:https://kulturbunker-muelheim.de/wp-content/uploads/2024/06/Bildschirmfoto-2024-06-19-um-13.27.53.png
END:VEVENT
END:VCALENDAR